BEGIN:VCALENDAR
VERSION:2.0
PRODID:-//Patriot Guard Riders - ECPv5.3.2.1//NONSGML v1.0//EN
CALSCALE:GREGORIAN
METHOD:PUBLISH
X-WR-CALNAME:Patriot Guard Riders
X-ORIGINAL-URL:https://www.patriotguard.org
X-WR-CALDESC:Events for Patriot Guard Riders
BEGIN:VTIMEZONE
TZID:America/New_York
BEGIN:DAYLIGHT
TZOFFSETFROM:-0500
TZOFFSETTO:-0400
TZNAME:EDT
DTSTART:20180311T070000
END:DAYLIGHT
BEGIN:STANDARD
TZOFFSETFROM:-0400
TZOFFSETTO:-0500
TZNAME:EST
DTSTART:20181104T060000
END:STANDARD
END:VTIMEZONE
BEGIN:VEVENT
DTSTART;TZID=America/New_York:20180421T084500
DTEND;TZID=America/New_York:20180421T104500
DTSTAMP:20210401T183620
CREATED:20180421T124500Z
LAST-MODIFIED:20201222T161457Z
UID:345215-1524300300-1524307500@www.patriotguard.org
SUMMARY:San Antonio Honor Flight #8
DESCRIPTION:HOTH Mission\nSan Antonio Honor Flight #8\nSan Antonio\, Texas – 21 Apr 2018\n\n\nABOUT THE MISSION: \nHonor Flight Network San Antonio (HFNSA) Meet and Greet event.\nPRIMARY STAGING DETAILS: 21 Apr 2018\nPrimary Staging Time: 08:45 A.M. \nWayland Baptist University\n11550 Interstate 35 Frontage Rd.\nSan Antonio\, Texas – 78233\nhttps://goo.gl/maps/fBE1gQ5o92s\nRide Captain: \nBob “Pizza Man” Johnson (w/flags)\nwhataboutsracing@verizon.net\nSpecial Instructions: \nBriefing: 9:00 a.m.\nFlag line: 9:15 a.m. – 9:45 a.m. weather permitting\, forecast calls for 90% chance of rain.\nEvent: 9:45 a.m. – Meet & Greet Escorts and VeteransIf rain prohibits a flag line\, please join the veterans and escorts as usual in the reception hall.\n\nFlags & Water: \nFlags Will Be Provided\nLarge Bike Flags will NOT be needed.\nWater will be provided.\n\n\nSubmitted By: Jean Clark\nPosition: Ride Captain \n\nNote:\nYou do not have to own/ride a motorcycle or be a Veteran to join and membership is Free. The only requirement is RESPECT! To join\, simply go to www.PatriotGuard.org and click on Register. Membership is Free. \nTo subscribe to receive mission notices\, log into the National Site and click on the Mission Tab at the top. Select the Subscribe to Missions option.
URL:https://www.patriotguard.org/mission/san-antonio-honor-flight-8/
CATEGORIES:HOTH Mission
END:VEVENT
END:VCALENDAR