BEGIN:VCALENDAR
VERSION:2.0
PRODID:-//Patriot Guard Riders - ECPv5.3.2.1//NONSGML v1.0//EN
CALSCALE:GREGORIAN
METHOD:PUBLISH
X-WR-CALNAME:Patriot Guard Riders
X-ORIGINAL-URL:https://www.patriotguard.org
X-WR-CALDESC:Events for Patriot Guard Riders
BEGIN:VTIMEZONE
TZID:America/New_York
BEGIN:DAYLIGHT
TZOFFSETFROM:-0500
TZOFFSETTO:-0400
TZNAME:EDT
DTSTART:20190310T070000
END:DAYLIGHT
BEGIN:STANDARD
TZOFFSETFROM:-0400
TZOFFSETTO:-0500
TZNAME:EST
DTSTART:20191103T060000
END:STANDARD
END:VTIMEZONE
BEGIN:VEVENT
DTSTART;VALUE=DATE:20190810
DTEND;VALUE=DATE:20190811
DTSTAMP:20210402T112953
CREATED:20190810T000230Z
LAST-MODIFIED:20190810T000230Z
UID:170088-1565395200-1565481599@www.patriotguard.org
SUMMARY:Samuel Rusk Davis
DESCRIPTION:Honor Mission\nSamuel Rusk Davis\, Veteran\nUSA\nTyler\, Texas – 08-10-19\n\n\n \n\nABOUT THE MISSION: \nMr. Davis served in the Army for 1 year and 8 months. He entered Service in March 1970 and was Honorably discharged in November 1971 with the National Defense Service Medal\, Expert (M-14)\n\n\nPRIMARY STAGING DETAILS: 08-10-19 \nStaging Time: 8:30 am  \nTyler Memorial Funeral Home\n12053 TX. Hwy 64\nTyler\, Texas 75704\nMap\n\n\nRide Captain: \nMike Holt\n903 790 1141\nmikewholt@yahoo.com\n\n\nSpecial Instructions: \nRiders meeting at 9:15\nMemorial Service Flag Line Only.\nPlease remain flexible as to the requirements of the mission. (SEMPER GUMBY)\n\nFlags & Water:\nFlags will be provided\nLarge Bike Flags will NOT be needed.\nWater will be provided.\n\n  \n\n\n\nSubmitted By: Michael Eubank \nPosition: Texas Deputy State Captain \n\nNote: You do not have to own/ride a motorcycle or be a veteran to join\, and membership is Free. The only requirement is RESPECT! To subscribe to receive mission notices\, log into the National Site and click on the Members tab at the top. Select the Subscribe to PGR Missions option.\n Print This Page
URL:https://www.patriotguard.org/mission/samuel-rusk-davis/
CATEGORIES:Honor Mission
END:VEVENT
END:VCALENDAR