BEGIN:VCALENDAR
VERSION:2.0
PRODID:-//Patriot Guard Riders - ECPv5.3.2.1//NONSGML v1.0//EN
CALSCALE:GREGORIAN
METHOD:PUBLISH
X-WR-CALNAME:Patriot Guard Riders
X-ORIGINAL-URL:https://www.patriotguard.org
X-WR-CALDESC:Events for Patriot Guard Riders
BEGIN:VTIMEZONE
TZID:America/New_York
BEGIN:DAYLIGHT
TZOFFSETFROM:-0500
TZOFFSETTO:-0400
TZNAME:EDT
DTSTART:20190310T070000
END:DAYLIGHT
BEGIN:STANDARD
TZOFFSETFROM:-0400
TZOFFSETTO:-0500
TZNAME:EST
DTSTART:20191103T060000
END:STANDARD
END:VTIMEZONE
BEGIN:VEVENT
DTSTART;VALUE=DATE:20190531
DTEND;VALUE=DATE:20190601
DTSTAMP:20210405T061918
CREATED:20190530T021545Z
LAST-MODIFIED:20190530T021545Z
UID:162908-1559260800-1559347199@www.patriotguard.org
SUMMARY:Samuel R. Sims
DESCRIPTION:Honor Mission\nSamuel R. Sims\, Veteran\nUSA –\nBullard\, Texas – 05-31-19\n\n\n\nABOUT THE MISSION: \nSPC5 Sims served our country for 10 years in the US Army\, with 2 tours in Vietnam. During his service\, he earned the following: National Defense Service Medal\, Vietnam Service Medal\, Vietnam Campaign Medal\, Combat Infantryman Badge\, Awarded 2 Purple Heart Medals\, Air Medal\, Good Conduct Medal x3\, Army Commendation Medal\, Bronze Star Medal\, Armed Forces Expeditionary Medal\, Vietnam Cross of Gallantry w/Palm.\n\n\nPRIMARY STAGING DETAILS: 05-31-19 \nStaging Time: 12:00 PM\n \nJ-C Cowboy Church of Cherokee County\n212 County Rd 3432\nBullard\, Texas 75757\nMap\n\n\nRide Captain: \nTony Coscione\n586-945-4845\ntony@coscione.com\n\n\nSpecial Instructions: \n12:00 pm to 12:30 pm with a riders meeting at 12:45 pm.\nFLAG LINE ONLY\nPlease remain flexible as to the requirements of the mission. (SEMPER GUMBY)\n\n\nFlags & Water:\nFlags will be provided\nLarge Bike Flags will NOT be needed.\nWater will be provided.\n\n\n\nSubmitted By: Michael Eubank \nPosition: Texas Deputy State Captain \n\nNote: You do not have to own/ride a motorcycle or be a veteran to join\, and membership is Free. The only requirement is RESPECT! To subscribe to receive mission notices\, log into the National Site and click on the Members tab at the top. Select the Subscribe to PGR Missions option.\n Print This Page
URL:https://www.patriotguard.org/mission/samuel-r-sims/
CATEGORIES:Honor Mission
END:VEVENT
END:VCALENDAR