BEGIN:VCALENDAR
VERSION:2.0
PRODID:-//Patriot Guard Riders - ECPv5.3.2.1//NONSGML v1.0//EN
CALSCALE:GREGORIAN
METHOD:PUBLISH
X-WR-CALNAME:Patriot Guard Riders
X-ORIGINAL-URL:https://www.patriotguard.org
X-WR-CALDESC:Events for Patriot Guard Riders
BEGIN:VTIMEZONE
TZID:America/New_York
BEGIN:DAYLIGHT
TZOFFSETFROM:-0500
TZOFFSETTO:-0400
TZNAME:EDT
DTSTART:20190310T070000
END:DAYLIGHT
BEGIN:STANDARD
TZOFFSETFROM:-0400
TZOFFSETTO:-0500
TZNAME:EST
DTSTART:20191103T060000
END:STANDARD
END:VTIMEZONE
BEGIN:VEVENT
DTSTART;VALUE=DATE:20190824
DTEND;VALUE=DATE:20190825
DTSTAMP:20210402T071913
CREATED:20190820T032058Z
LAST-MODIFIED:20190820T032058Z
UID:171164-1566604800-1566691199@www.patriotguard.org
SUMMARY:Samuel Lee Bowler
DESCRIPTION:Honor Mission\nSamuel Lee Bowler\, Veteran\nUSA – Vietnam\nSkiatook\, Oklahoma – 08-24-19\n\n\n\nABOUT THE MISSION: \nThe family of PFC Samuel Lee Bowler\, Vietnam and service related disabled veteran has asked the PGR to stand a Flag Line at the service Saturday at 11:00am.\n\n\nPRIMARY STAGING DETAILS: 08-24-19 \nStaging Time: 10:00 AM\n \nGreen Acres Memorial Gardens\n12410 N Yale\nSkiatook\, Oklahoma\n\n\nRide Captain: \nTom (Phantom1) Sage\ntomsage1@hotmail.com\n918-698-7243\n\n\nSpecial Instructions: \nBRIEFING: 10:10 am.\nFlag line 10:30 am.\nThis will be a graveside service only.\nMilitary honors will be rendered at gravesite\, followed by PGR honors.\nWEATHER:89°/71° PC\n\n\nFlags & Water:\nFlags will be provided\nLarge Bike Flags will NOT be needed.\nWater will be provided.\n\n\n\nSubmitted By: Richard Fawcett \nPosition: Oklahoma Assistant State Captain \n\nNote: You do not have to own/ride a motorcycle or be a veteran to join\, and membership is Free. The only requirement is RESPECT! To subscribe to receive mission notices\, log into the National Site and click on the Members tab at the top. Select the Subscribe to PGR Missions option.\n Print This Page
URL:https://www.patriotguard.org/mission/samuel-lee-bowler/
CATEGORIES:Honor Mission
END:VEVENT
END:VCALENDAR