BEGIN:VCALENDAR
VERSION:2.0
PRODID:-//Patriot Guard Riders - ECPv5.3.2.1//NONSGML v1.0//EN
CALSCALE:GREGORIAN
METHOD:PUBLISH
X-WR-CALNAME:Patriot Guard Riders
X-ORIGINAL-URL:https://www.patriotguard.org
X-WR-CALDESC:Events for Patriot Guard Riders
BEGIN:VTIMEZONE
TZID:America/New_York
BEGIN:DAYLIGHT
TZOFFSETFROM:-0500
TZOFFSETTO:-0400
TZNAME:EDT
DTSTART:20190310T070000
END:DAYLIGHT
BEGIN:STANDARD
TZOFFSETFROM:-0400
TZOFFSETTO:-0500
TZNAME:EST
DTSTART:20191103T060000
END:STANDARD
END:VTIMEZONE
BEGIN:VEVENT
DTSTART;VALUE=DATE:20190719
DTEND;VALUE=DATE:20190720
DTSTAMP:20210403T185510
CREATED:20190717T214030Z
LAST-MODIFIED:20190717T214030Z
UID:168019-1563494400-1563580799@www.patriotguard.org
SUMMARY:Samuel Curtis Huffstatler
DESCRIPTION:Honor Mission\nSamuel Curtis Huffstatler\, Veteran\nUSA\, ANG –\nNew Albany\, Mississippi – 07-19-19\n\n\n\nABOUT THE MISSION: \nMr. Huffstatler served our country in the U.S. Army and Army National Guard. He was awarded the Afghanistan Campaign Medal w/Campaign Star\, Army Commendation Medal\, Army Good Conduct Medal\, National\, National Defense Service Medal\, and the Global War on Terrorism Service Medal. He also earned the Army Service Ribbon and Combat Infantryman Badge.\n\n\nPRIMARY STAGING DETAILS: 07-19-19 \nStaging Time: 12:30 PM\n \nUnited Funeral Home\n700 MS 15\nNew Albany\, Mississippi 38652\n\n\nRide Captain: \nBob Buntyn\n662-812-1008\n\n\nSpecial Instructions: \n\n\nFlags & Water:\nFlags will be provided\nIf you have large bike flags\, please bring them.\nWater WILL NOT be provided\, please bring your own.\n\n\n\nSubmitted By: Roger Barrett \nPosition: Mississippi State Captain \n\nNote: You do not have to own/ride a motorcycle or be a veteran to join\, and membership is Free. The only requirement is RESPECT! To subscribe to receive mission notices\, log into the National Site and click on the Members tab at the top. Select the Subscribe to PGR Missions option.\n Print This Page
URL:https://www.patriotguard.org/mission/samuel-curtis-huffstatler/
CATEGORIES:Honor Mission
END:VEVENT
END:VCALENDAR