BEGIN:VCALENDAR
VERSION:2.0
PRODID:-//Patriot Guard Riders - ECPv5.3.2.1//NONSGML v1.0//EN
CALSCALE:GREGORIAN
METHOD:PUBLISH
X-WR-CALNAME:Patriot Guard Riders
X-ORIGINAL-URL:https://www.patriotguard.org
X-WR-CALDESC:Events for Patriot Guard Riders
BEGIN:VTIMEZONE
TZID:America/New_York
BEGIN:DAYLIGHT
TZOFFSETFROM:-0500
TZOFFSETTO:-0400
TZNAME:EDT
DTSTART:20190310T070000
END:DAYLIGHT
BEGIN:STANDARD
TZOFFSETFROM:-0400
TZOFFSETTO:-0500
TZNAME:EST
DTSTART:20191103T060000
END:STANDARD
END:VTIMEZONE
BEGIN:VEVENT
DTSTART;VALUE=DATE:20190802
DTEND;VALUE=DATE:20190803
DTSTAMP:20210402T131809
CREATED:20190731T012612Z
LAST-MODIFIED:20190731T013009Z
UID:169064-1564704000-1564790399@www.patriotguard.org
SUMMARY:Samuel C. Work
DESCRIPTION:Honor Mission\nSamuel C. Work\, Retired\nUSA\nStafford\, Virginia – 08-02-19\n\n\n\nABOUT THE MISSION: \nPGR has been graciously invited to stand a flag-line during the Memorial Service and celebration of life of LTC Samuel C. Work\, USA.  LTC Samuel C. Work passed away peacefully in his home\, in Stafford\, VA\, on June 22\, 2019.  Sam was born in Washington\,PA on March 25\, 1942.  He went to Washington & Jefferson College in Washington \,PA and participated in the ROTC program.  He entered the USA on June 6\,1964 as a Second Lieutenant.  Sam served two tours in Vietnam and was awarded the Vietnamese Cross of Gallantry with Silver Star\, Vietnamese Cross of Gallantry with Bronze Star and Vietnamese Cross of Gallantry with Palm.  He also received an Air Medal\, Bronze Star Medal\,  Army Commendation Medal\, Meritorious Service Medal and Legion of Merit.  Sam retired in 1984 as a Lieutenant Colonel after 20 years of service.  Sam loved his motorcycles and many other hobbies.  Sam is survived by his wife Marsha and a really big loving family.\n\n\nPRIMARY STAGING DETAILS: 08-02-19 \nStaging: 9:15 AM\n \nMt Ararat Baptist Church\n1112 Garrisonville Road\nStafford\, Virginia 22556\n\n\nRide Captain: \nBo Stamp\n540-717-3910\n\n\nSpecial Instructions: \nBriefing:  9:30 AM\, PGR will set up the flag-line immediately following.\nWeather forecast calls for a nice but warm day\, please be and stay hydrated.\n\n\nFlags & Water:\nFlags will be provided\nLarge Bike Flags will NOT be needed.\nWater WILL NOT be provided\, please bring your own.\n\nSubmitted By: Patrick Segui \nPosition: Virginia Assistant State Captain \n\nNote: You do not have to own/ride a motorcycle or be a veteran to join\, and membership is Free. The only requirement is RESPECT! To subscribe to receive mission notices\, log into the National Site and click on the Members tab at the top. Select the Subscribe to PGR Missions option.\n Print This Page
URL:https://www.patriotguard.org/mission/samuel-c-work/
CATEGORIES:Honor Mission
END:VEVENT
END:VCALENDAR