BEGIN:VCALENDAR
VERSION:2.0
PRODID:-//Patriot Guard Riders - ECPv5.6.0//NONSGML v1.0//EN
CALSCALE:GREGORIAN
METHOD:PUBLISH
X-WR-CALNAME:Patriot Guard Riders
X-ORIGINAL-URL:https://www.patriotguard.org
X-WR-CALDESC:Events for Patriot Guard Riders
BEGIN:VTIMEZONE
TZID:America/New_York
BEGIN:DAYLIGHT
TZOFFSETFROM:-0500
TZOFFSETTO:-0400
TZNAME:EDT
DTSTART:20160313T070000
END:DAYLIGHT
BEGIN:STANDARD
TZOFFSETFROM:-0400
TZOFFSETTO:-0500
TZNAME:EST
DTSTART:20161106T060000
END:STANDARD
END:VTIMEZONE
BEGIN:VEVENT
DTSTART;TZID=America/New_York:20160715T090000
DTEND;TZID=America/New_York:20160715T110000
DTSTAMP:20210512T140310
CREATED:20160715T130000Z
LAST-MODIFIED:20191201T144345Z
UID:410621-1468573200-1468580400@www.patriotguard.org
SUMMARY:Samuel Barela\, Jr.\, 65
DESCRIPTION:The family of Sergeant Samuel Barela Jr.\, Veteran of the United States Army\, for has asked for the Patriot Guard to render honors for his interment.  Sgt Samuel Barela Jr is a Veteran and has passed away at the age of 65.\n \nFriday 15 July 2016\nThe Funeral Home for him is Kaster\, Maxon & Futrell\, 8817 Dyer S El Paso TX \n \nThe Patriot Guard will provide an Honors Escort from Kaster\, Maxon & Futrell F.H. to the Blessed Sacrament\, 9025 Diana St.\, Mass will be held at 10:00.\nStaging:                                     09:00      At Kaster\, Maxon & Futrell\nKSU                                          09:30      Approximate\n \nInternment at the Ft Bliss National Cemetery\, 5200 Fred Wilson Dr. El Paso Texas\, at 11:00 (West Shelter). The PGR will provide an escort from Blessed Sacrament Church to the Ft. Bliss National Cemetery.\n \nStage:                                    10:30     Blessed Sacrament Church (If not already there)\nKSU:                                    10:40     (Approximate\, at the end of Mass)\n \nUpon arrival\, the PGR will stand the Honors Flag Line at the Ft. Bliss National Cemetery.\n \nAmazing Grace has been asked for.\n \nRide Captain:  Skip Haberkamp\n(915) 833-0504 Home \n(915) 401-6272 Cell
URL:https://www.patriotguard.org/mission/samuel-barela-jr-65/
CATEGORIES:Archive
END:VEVENT
END:VCALENDAR