BEGIN:VCALENDAR
VERSION:2.0
PRODID:-//Patriot Guard Riders - ECPv5.3.2.1//NONSGML v1.0//EN
CALSCALE:GREGORIAN
METHOD:PUBLISH
X-WR-CALNAME:Patriot Guard Riders
X-ORIGINAL-URL:https://www.patriotguard.org
X-WR-CALDESC:Events for Patriot Guard Riders
BEGIN:VTIMEZONE
TZID:America/New_York
BEGIN:DAYLIGHT
TZOFFSETFROM:-0500
TZOFFSETTO:-0400
TZNAME:EDT
DTSTART:20190310T070000
END:DAYLIGHT
BEGIN:STANDARD
TZOFFSETFROM:-0400
TZOFFSETTO:-0500
TZNAME:EST
DTSTART:20191103T060000
END:STANDARD
END:VTIMEZONE
BEGIN:VEVENT
DTSTART;VALUE=DATE:20190820
DTEND;VALUE=DATE:20190821
DTSTAMP:20210402T115309
CREATED:20190816T213214Z
LAST-MODIFIED:20190816T213214Z
UID:171111-1566259200-1566345599@www.patriotguard.org
SUMMARY:Samuel Ashley Martin
DESCRIPTION:Honor Mission\nSamuel Ashley Martin\, Veteran\nUSMC –\nMoss Point\, Mississippi – 08-20-19\n\n\n\nABOUT THE MISSION: \nWe are sad to report the death of US Marine Corps Veteran Samuel Ashley Martin (44). Awards and decorations are unavailable at this time. His family has requested the Patriot Guard Riders help honor him for his service to our country. The Patriot Guard will provide a flag line for visitation from 11am-1pm. Internment at Biloxi National will be at a later date.\n\n\nPRIMARY STAGING DETAILS: 08-20-19 \nStaging Time: 10:30 AM\n \nHeritage Funeral Home\n9721 Hwy 63\nMoss Point\, Mississippi\n\n\nRide Captain: \nSandie Schlett\n228-297-6720\n\n\nSpecial Instructions: \n\n\nFlags & Water:\nFlags will be provided\nLarge Bike Flags will NOT be needed.\nWater WILL NOT be provided\, please bring your own.\n\n\n\nSubmitted By: Sandie Schlett \nPosition: Mississippi Assistant State Captain \n\nNote: You do not have to own/ride a motorcycle or be a veteran to join\, and membership is Free. The only requirement is RESPECT! To subscribe to receive mission notices\, log into the National Site and click on the Members tab at the top. Select the Subscribe to PGR Missions option.\n Print This Page
URL:https://www.patriotguard.org/mission/samuel-ashley-martin/
CATEGORIES:Honor Mission
END:VEVENT
END:VCALENDAR