BEGIN:VCALENDAR
VERSION:2.0
PRODID:-//Patriot Guard Riders - ECPv5.3.2.1//NONSGML v1.0//EN
CALSCALE:GREGORIAN
METHOD:PUBLISH
X-WR-CALNAME:Patriot Guard Riders
X-ORIGINAL-URL:https://www.patriotguard.org
X-WR-CALDESC:Events for Patriot Guard Riders
BEGIN:VTIMEZONE
TZID:America/New_York
BEGIN:DAYLIGHT
TZOFFSETFROM:-0500
TZOFFSETTO:-0400
TZNAME:EDT
DTSTART:20190310T070000
END:DAYLIGHT
BEGIN:STANDARD
TZOFFSETFROM:-0400
TZOFFSETTO:-0500
TZNAME:EST
DTSTART:20191103T060000
END:STANDARD
END:VTIMEZONE
BEGIN:VEVENT
DTSTART;VALUE=DATE:20190817
DTEND;VALUE=DATE:20190818
DTSTAMP:20210402T122231
CREATED:20190815T160253Z
LAST-MODIFIED:20190815T160253Z
UID:171057-1566000000-1566086399@www.patriotguard.org
SUMMARY:Samuel Albert Smith
DESCRIPTION:Honor Mission\nSamuel Albert Smith\, Veteran\nUSA\nBaton Rouge\, Louisiana – 08-17-19\n\n\n\n\nABOUT THE MISSION: \nMr. Samuel Albert Smith “Honorably” served in the United States Army. The family has requested the Patriot Guard Riders to honor their love one.\n\n\nPRIMARY STAGING DETAILS: 08-17-19 \nStaging Time: 8:00 a.m.\n \nGreater Sixty Aid Baptist Church\n665 Gardere Lane\nBaton Rouge\, Louisiana 70820\n\n\nRide Captain: \nPaul Ladut\, ladutp@yahoo.com\, 225-333-8767\n\n\nSpecial Instructions: \n8:00:  Set flags in front of church.\n9:00:  Begin silent flag line\, church open for visitation.\n10:00:  Funeral service.  No escort.\n\n\nFlags & Water:\nFlags will be provided\nLarge Bike Flags will NOT be needed.\nWater will be provided.\n\nSubmitted By: Paul Ladut \nPosition: Louisiana Ride Captain\n\n\nNote: You do not have to own/ride a motorcycle or be a veteran to join\, and membership is Free. The only requirement is RESPECT! To subscribe to receive mission notices\, log into the National Site and click on the Members tab at the top. Select the Subscribe to PGR Missions option.\n Print This Page
URL:https://www.patriotguard.org/mission/samuel-albert-smith/
CATEGORIES:Honor Mission
END:VEVENT
END:VCALENDAR