BEGIN:VCALENDAR
VERSION:2.0
PRODID:-//Patriot Guard Riders - ECPv5.3.2.1//NONSGML v1.0//EN
CALSCALE:GREGORIAN
METHOD:PUBLISH
X-WR-CALNAME:Patriot Guard Riders
X-ORIGINAL-URL:https://www.patriotguard.org
X-WR-CALDESC:Events for Patriot Guard Riders
BEGIN:VTIMEZONE
TZID:America/New_York
BEGIN:DAYLIGHT
TZOFFSETFROM:-0500
TZOFFSETTO:-0400
TZNAME:EDT
DTSTART:20190310T070000
END:DAYLIGHT
BEGIN:STANDARD
TZOFFSETFROM:-0400
TZOFFSETTO:-0500
TZNAME:EST
DTSTART:20191103T060000
END:STANDARD
END:VTIMEZONE
BEGIN:VEVENT
DTSTART;VALUE=DATE:20190912
DTEND;VALUE=DATE:20190913
DTSTAMP:20210401T091956
CREATED:20190910T224731Z
LAST-MODIFIED:20190910T224731Z
UID:173405-1568246400-1568332799@www.patriotguard.org
SUMMARY:Salvatore N. Riggio
DESCRIPTION:Honor Mission\nSalvatore N. Riggio\, Veteran\nUSAF –\nSt. Louis\, Missouri – 09-12-19\n\n\n\nABOUT THE MISSION: \nPlease join us in standing for Mr. Salvatore Riggio\, just as he once stood for every one of us. Hero Riggio served our country as a Doctor of Medicine in the USAF from 1954 thru 1956\, and was honorably discharged from Edwards Air force Base in California. As a civilian\, Mr. Riggio continued practicing medicine as a Pediatrician.\n\n\nPRIMARY STAGING DETAILS: 09-12-19 \nStaging Time: 09:00 AM\n \nZiegenhein – City Chapel\n7027 Gravois Ave.\nSt. Louis\, Missouri 63116\n\n\nRide Captain: \nJeff ‘Tattoo’ Hirsch\njeff.stlpgr@gmail.com\n\n\nSpecial Instructions: \n09:00 – Staging w/ ride meeting to follow\n09:15 – Honor escort (3 miles)\n10:00 – Funeral mass @ Seven Holy Founders Church\n11:00 – Honor escort (3 miles)\n11:15 – Military Honors at Resurrection Cemetery\nFlags / Support – TBD\n\n\nFlags & Water:\nFlags will be provided\nIf you have large bike flags\, please bring them.\nWater will be provided.\n\n\n\nSubmitted By: Jeff Hirsch \nPosition: Missouri Ride Captain \n\nNote: You do not have to own/ride a motorcycle or be a veteran to join\, and membership is Free. The only requirement is RESPECT! To subscribe to receive mission notices\, log into the National Site and click on the Members tab at the top. Select the Subscribe to PGR Missions option.\n Print This Page
URL:https://www.patriotguard.org/mission/salvatore-n-riggio/
CATEGORIES:Honor Mission
END:VEVENT
END:VCALENDAR