BEGIN:VCALENDAR
VERSION:2.0
PRODID:-//Patriot Guard Riders - ECPv5.3.2.1//NONSGML v1.0//EN
CALSCALE:GREGORIAN
METHOD:PUBLISH
X-WR-CALNAME:Patriot Guard Riders
X-ORIGINAL-URL:https://www.patriotguard.org
X-WR-CALDESC:Events for Patriot Guard Riders
BEGIN:VTIMEZONE
TZID:America/New_York
BEGIN:DAYLIGHT
TZOFFSETFROM:-0500
TZOFFSETTO:-0400
TZNAME:EDT
DTSTART:20190310T070000
END:DAYLIGHT
BEGIN:STANDARD
TZOFFSETFROM:-0400
TZOFFSETTO:-0500
TZNAME:EST
DTSTART:20191103T060000
END:STANDARD
END:VTIMEZONE
BEGIN:VEVENT
DTSTART;VALUE=DATE:20190617
DTEND;VALUE=DATE:20190618
DTSTAMP:20210402T023331
CREATED:20190611T140641Z
LAST-MODIFIED:20190611T140641Z
UID:164355-1560729600-1560815999@www.patriotguard.org
SUMMARY:Ryan Tamburrino
DESCRIPTION:Honor Mission\nRyan Tamburrino\, Veteran\nUSA – WoT\nMeridian\, Idaho – 06-17-19\n\n\nABOUT THE MISSION:\n\nWe will stand a flag line to honor Ryan’s life and service to his country. A funeral service will be held at Holy Apostles Catholic Church at 11:00 am. on Monday June 17th. Burial to follow at Idaho State Veterans Cemetery at 2:00 pm. Ryan served in the US Army from 2006 to 2011 attaining the rank of Spec 4.\n\n\nPRIMARY STAGING DETAILS: 06-17-19 \nStaging Time: 10:00am \nHoly Apostles Catholic Church\n6300 N Meridian Rd(south parking lot)\nMeridian\, Idaho 83646\n\n\nRide Captain: \nFrank Peak\n208-850-2133\nmnpeaks@gmail.com\n\n\nSpecial Instructions: \nBriefing/Updates 1015 am.\nFlag line established NLT 1030 am.\nUpon commencement of the service riders will be dismissed and directed to Stage 2 location.\n\nFlags & Water:\nFlags will not be provided\nLarge Bike Flags will NOT be needed.\nWater WILL NOT be provided\, please bring your own.\n\nSTAGING #2 DETAILS: 06-17-19 \nStaging Time: 1:00pm \nWinco parking lot\, corner of State St and Old Horseshoe Bend Rd.\nBoise\, Idaho\n\n\nRide Captain: \nDenver McCrory\n208-353-8809\nclee_83702@aol.com\n\n\nSpecial Instructions: \nBriefing/Updates 1:20 pm.\nKSU 1:30 pm.\nRide as a group to ISVC and establish flag line on arrival.\n\nFlags & Water:\nFlags will not be provided\nLarge Bike Flags will NOT be needed.\nWater WILL NOT be provided\, please bring your own.\n\n\n\nSubmitted By: Dario Bell \nPosition: Idaho State Captain \n\nNote: You do not have to own/ride a motorcycle or be a veteran to join\, and membership is Free. The only requirement is RESPECT! To subscribe to receive mission notices\, log into the National Site and click on the Members tab at the top. Select the Subscribe to PGR Missions option.\n Print This Page
URL:https://www.patriotguard.org/mission/ryan-tamburrino/
CATEGORIES:Honor Mission
END:VEVENT
END:VCALENDAR