BEGIN:VCALENDAR
VERSION:2.0
PRODID:-//Patriot Guard Riders - ECPv5.3.2.1//NONSGML v1.0//EN
CALSCALE:GREGORIAN
METHOD:PUBLISH
X-WR-CALNAME:Patriot Guard Riders
X-ORIGINAL-URL:https://www.patriotguard.org
X-WR-CALDESC:Events for Patriot Guard Riders
BEGIN:VTIMEZONE
TZID:America/New_York
BEGIN:DAYLIGHT
TZOFFSETFROM:-0500
TZOFFSETTO:-0400
TZNAME:EDT
DTSTART:20190310T070000
END:DAYLIGHT
BEGIN:STANDARD
TZOFFSETFROM:-0400
TZOFFSETTO:-0500
TZNAME:EST
DTSTART:20191103T060000
END:STANDARD
END:VTIMEZONE
BEGIN:VEVENT
DTSTART;VALUE=DATE:20190911
DTEND;VALUE=DATE:20190912
DTSTAMP:20210401T095034
CREATED:20190909T140144Z
LAST-MODIFIED:20190909T140210Z
UID:173196-1568160000-1568246399@www.patriotguard.org
SUMMARY:Ryan Kees
DESCRIPTION:Honor Mission\nRyan Kees\, Active Duty\nUSAF – WoT\nSan Antonio\, Texas – 09-11-19\n\n\n\nABOUT THE MISSION: \nThe family of MSgt Ryan Kees\, US Air Force\, requests the presence and participation of the Patriot Guard Riders at the funeral service\, LEO supported procession\, and graveside rendering of military honors of their loved one.  MSgt Ryan A. Kees currently served as the Non-Commissioned Officer in Charge of the Strategic Cyber Systems Division for the 24th Air Force at Joint Base San Antonio-Lackland\, Texas. MSgt Kees provided radio frequency spectrum operations support in the Air Force’s only cyber numbered air force\, delivering full range capabilities to two wings and one combat communications group.  MSgt Kees is a native of Cincinnati\, Ohio and originally entered the Ohio Air National Guard in September 2000.  He transferred to the Air Force with a direct duty assignment to Travis Air Force Base\, California in January 2004 as a Satellite\, Wide-band\, and Telemetry Systems Journeyman.  He retrained into the Spectrum Operations career field in March 2013 and has served in a variety of communications-electronics maintenance and cyberspace support assignments in Ohio\, California\, Germany\, and Texas.  Prior to his current position\, MSgt Kees was the Unit Deployment Manager\, 543rd Support Squadron\, Joint Base San Antonio-Lackland\, Texas.  His overseas deployments include locations in Antarctica\, Iraq\, and Afghanistan in support of Operations DEEP FREEZE\, IRAQI FREEDOM and ENDURING FREEDOM.\n\n\nPRIMARY STAGING DETAILS: 09-11-19 \nStaging: 10:30 AM\n \nSunset Funeral Home & Memorial Park\n1701 Austin Hwy\nSan Antonio\, Texas 78218\nhttps://goo.gl/maps/fmSuvQiox3p\n\n\nRide Captain: \nDon “Papa Bear” Williams\nTexasshoes@sbcglobal.net\n\n\nSpecial Instructions: \nStaging: 10:30 AM\nBriefing: 10:45 AM\nService: 11:30 AM\nKSU: 12:45 AM\nInterment: 1:30 PM\, Fort Sam Houston National Cemetery\, 1520 Harry Wurzbach Rd\, San Antonio\, TX 78209\n\n\nFlags & Water:\nFlags will be provided\nIf you have large bike flags\, please bring them.\nWater will be provided.\n\nSubmitted By: Lisa Menard \nPosition: Texas Ride Captain \n\nNote: You do not have to own/ride a motorcycle or be a veteran to join\, and membership is Free. The only requirement is RESPECT! To subscribe to receive mission notices\, log into the National Site and click on the Members tab at the top. Select the Subscribe to PGR Missions option.\n Print This Page
URL:https://www.patriotguard.org/mission/ryan-kees/
CATEGORIES:Honor Mission
END:VEVENT
END:VCALENDAR