BEGIN:VCALENDAR
VERSION:2.0
PRODID:-//Patriot Guard Riders - ECPv5.3.2.1//NONSGML v1.0//EN
CALSCALE:GREGORIAN
METHOD:PUBLISH
X-WR-CALNAME:Patriot Guard Riders
X-ORIGINAL-URL:https://www.patriotguard.org
X-WR-CALDESC:Events for Patriot Guard Riders
BEGIN:VTIMEZONE
TZID:America/New_York
BEGIN:DAYLIGHT
TZOFFSETFROM:-0500
TZOFFSETTO:-0400
TZNAME:EDT
DTSTART:20190310T070000
END:DAYLIGHT
BEGIN:STANDARD
TZOFFSETFROM:-0400
TZOFFSETTO:-0500
TZNAME:EST
DTSTART:20191103T060000
END:STANDARD
END:VTIMEZONE
BEGIN:VEVENT
DTSTART;VALUE=DATE:20190821
DTEND;VALUE=DATE:20190822
DTSTAMP:20210402T144834
CREATED:20190820T000723Z
LAST-MODIFIED:20190820T000723Z
UID:171364-1566345600-1566431999@www.patriotguard.org
SUMMARY:Ruth Marie Crawford
DESCRIPTION:Honor Mission\nRuth Marie Crawford\, Veteran\nUSA\nGrovetown \, Georgia – 08-21-19\n\n\nABOUT THE MISSION:\n\n\nThe family of Ruth Marie Crawford has asked the Patriot Guard Riders to stand for her as she once stood for us. We are honored to do so. SGT Crawford served in the U.S. Army from 1978 to 1989\, to include over six years of foreign service. She was also a member of American Legion Post 337 in Grovetown\, Georgia.\n\n\nPRIMARY STAGING DETAILS: 08-21-19 \nStaging Time: 5:30 pm \nGrove First Baptist Church\n108 W Robinson Ave.\nGrovetown \, Georgia 30813\n\n\nRide Captain: \nNorm Chagnon\n774-644-7008\nplayshockey12@comcast.net\n\n\nSpecial Instructions: \nAfter the briefing we will stand a flag line as family and friends arrive for the 6:30 pm celebration of life service.\n\n\nFlags & Water:\n\nFlags will be provided\nLarge Bike Flags will NOT be needed.\nWater will be provided.\n\n\n\nSubmitted By: norman chagnon \nPosition: Georgia Ride Captain \n\nNote: You do not have to own/ride a motorcycle or be a veteran to join\, and membership is Free. The only requirement is RESPECT! To subscribe to receive mission notices\, log into the National Site and click on the Members tab at the top. Select the Subscribe to PGR Missions option.\n Print This Page
URL:https://www.patriotguard.org/mission/ruth-marie-crawford/
CATEGORIES:Honor Mission
END:VEVENT
END:VCALENDAR