BEGIN:VCALENDAR
VERSION:2.0
PRODID:-//Patriot Guard Riders - ECPv5.3.2.1//NONSGML v1.0//EN
CALSCALE:GREGORIAN
METHOD:PUBLISH
X-WR-CALNAME:Patriot Guard Riders
X-ORIGINAL-URL:https://www.patriotguard.org
X-WR-CALDESC:Events for Patriot Guard Riders
BEGIN:VTIMEZONE
TZID:America/New_York
BEGIN:DAYLIGHT
TZOFFSETFROM:-0500
TZOFFSETTO:-0400
TZNAME:EDT
DTSTART:20190310T070000
END:DAYLIGHT
BEGIN:STANDARD
TZOFFSETFROM:-0400
TZOFFSETTO:-0500
TZNAME:EST
DTSTART:20191103T060000
END:STANDARD
END:VTIMEZONE
BEGIN:VEVENT
DTSTART;VALUE=DATE:20190821
DTEND;VALUE=DATE:20190822
DTSTAMP:20210402T110417
CREATED:20190819T013748Z
LAST-MODIFIED:20190819T013748Z
UID:171273-1566345600-1566431999@www.patriotguard.org
SUMMARY:Russell Edward Rojas Sr.
DESCRIPTION:Honor Mission\nRussell Edward Rojas Sr.\, Veteran\nUSA – WWII\nMarrero\, Louisiana – 08-21-19\n\n\n\nABOUT THE MISSION: \nMr. Rojas Sr. was a combat Veteran of WWII and served under General George S. Patton. Landed on D-Day with 29th infantry on Normandy Beach and was in the Battle of the Bulge. He was a member of the VFW and the American Legion. He was a fisherman in the summer time and a school bus driver\, Bus Number 4\, for 40 years. He never met a stranger. He will be sadly missed by all those who knew him. He was a member of St. Anthony Catholic Church in Lafitte.\n\n\nPRIMARY STAGING DETAILS: 08-21-19 \nStaging Time: 09:00 AM\n \nLeitz-Eagan Funeral Home\n5101 Westbank Expy.\nMarrero\, Louisiana\n\n\nRide Captain: \nPaul Ladut\nladutp@yahoo.com\n225 333 8767\n\n\nSpecial Instructions: \n09:00 Mission brief\, set flags in front of funeral home.\n10:00 Visitation\, set silent flag line.\n2:00 Mass Interment will be held at St. Pius X Catholic Cemetery\, Crown Point\, LA. LEO will escort the funeral procession to Crown Point.\n\n\nFlags & Water:\nFlags will be provided\nIf you have large bike flags\, please bring them.\nWater WILL NOT be provided\, please bring your own.\n\n\n\nSubmitted By: Paul Ladut \nPosition: \n\nNote: You do not have to own/ride a motorcycle or be a veteran to join\, and membership is Free. The only requirement is RESPECT! To subscribe to receive mission notices\, log into the National Site and click on the Members tab at the top. Select the Subscribe to PGR Missions option.\n Print This Page
URL:https://www.patriotguard.org/mission/russell-edward-rojas-sr/
CATEGORIES:Honor Mission
END:VEVENT
END:VCALENDAR