BEGIN:VCALENDAR
VERSION:2.0
PRODID:-//Patriot Guard Riders - ECPv5.3.2.1//NONSGML v1.0//EN
CALSCALE:GREGORIAN
METHOD:PUBLISH
X-WR-CALNAME:Patriot Guard Riders
X-ORIGINAL-URL:https://www.patriotguard.org
X-WR-CALDESC:Events for Patriot Guard Riders
BEGIN:VTIMEZONE
TZID:America/New_York
BEGIN:DAYLIGHT
TZOFFSETFROM:-0500
TZOFFSETTO:-0400
TZNAME:EDT
DTSTART:20160313T070000
END:DAYLIGHT
BEGIN:STANDARD
TZOFFSETFROM:-0400
TZOFFSETTO:-0500
TZNAME:EST
DTSTART:20161106T060000
END:STANDARD
END:VTIMEZONE
BEGIN:VEVENT
DTSTART;TZID=America/New_York:20160622T090000
DTEND;TZID=America/New_York:20160622T110000
DTSTAMP:20210403T083655
CREATED:20160622T130000Z
LAST-MODIFIED:20191201T144917Z
UID:411124-1466586000-1466593200@www.patriotguard.org
SUMMARY:Russell E. Curtis
DESCRIPTION:Sadly we have been requested to stand in Honor of RUSSELL EUGENE CURTIS\, BTFN USNR VIETNAM ERA.\n\nBTFN Curtis served in the US Navy Reserve aboard the USS ESSEX CVS 8 homeported in Quonset Point RI 09/66 – 08/1968\n\nWe  are standing calling hours only from 4p-8p.( STAGING AT) 3p at the West  Haven Funeral Home  662 Savin Av.\,  West Haven\, CT 06516.  \nMilitary Honors will be held at 7p at the funeral home. \nASC Jack Casey will be RCIC and Flags and Water will be on site. \nSkip Petras\nAssistant State Captain\nascspetras@gmail.com
URL:https://www.patriotguard.org/mission/russell-e-curtis/
CATEGORIES:Archive
END:VEVENT
END:VCALENDAR