BEGIN:VCALENDAR
VERSION:2.0
PRODID:-//Patriot Guard Riders - ECPv5.6.0//NONSGML v1.0//EN
CALSCALE:GREGORIAN
METHOD:PUBLISH
X-WR-CALNAME:Patriot Guard Riders
X-ORIGINAL-URL:https://www.patriotguard.org
X-WR-CALDESC:Events for Patriot Guard Riders
BEGIN:VTIMEZONE
TZID:America/New_York
BEGIN:DAYLIGHT
TZOFFSETFROM:-0500
TZOFFSETTO:-0400
TZNAME:EDT
DTSTART:20160313T070000
END:DAYLIGHT
BEGIN:STANDARD
TZOFFSETFROM:-0400
TZOFFSETTO:-0500
TZNAME:EST
DTSTART:20161106T060000
END:STANDARD
END:VTIMEZONE
BEGIN:VEVENT
DTSTART;TZID=America/New_York:20160708T090000
DTEND;TZID=America/New_York:20160708T110000
DTSTAMP:20210512T144251
CREATED:20160708T130000Z
LAST-MODIFIED:20191201T144531Z
UID:410783-1467968400-1467975600@www.patriotguard.org
SUMMARY:Russell Bruce Kyzer\, 65\, USA
DESCRIPTION:Confirmed Mission\n8 July 2016\nPFC Russell B. Kyzer\nU.S. Army – Vietnam\nConway\, Arkansas\n\n\n\nThe family\, and friends of Russell Bruce Kyzer\, 65\, have requested the Patriot Guard Riders attend his funeral to show Honor\, and Respect for service rendered to our country. PFC Kyzer was in the U.S. Army\, and served in the Vietnam War as a cook. Awards include\, the National Defense Service Medal\, and the Vietnam Service Medal. \nHe is survived by his wife\, one son\, one grandson\, 2 sisters\, two stepchildren\, other family members\, and friends who mourn his loss. \nFuneral services are 10:00 AM\, Friday\, July 8\, 2016 at Griffin-Leggett Funeral Home\, 1751 Dave Ward Drive\, Conway\, Arkansas\, with interment at the Gravel Ridge Cemetery. Visitation is 6:00 – 8:00 PM on Thursday evening at the funeral home. \nhttp://obits.dignitymemorial.com/dignity-memorial/obituary-print.aspx?n=Russell-Kyzer&lc=9865&pid=180550751&uuid=b584d37c-9bdd-4907-be72-d6d1ecc1a539 \nPlease join the Patriot Guard Riders as we Honor this Hero\, and stand by his hurting family to show Honor & Respect! \nSTAGING:   0900 HRS\, Friday\, 8 July 2016 \nGriffin-Leggett Funeral Home\n1751 Dave Ward Drive\nConway\, Arkansas \nBRIEFING:   0915 HRS   (Mandatory for escort participation) \nFLAG LINE:   0930 – 1000 HRS \nRESPECT LINE:   10:45 HRS \nESCORT:\nTo the Gravel Ridge Cemetery – Big flag bikes ok (34 miles) \nINTERMENT:   With Military Honors\, and a Flag Line \nWeather:   Hot & humid\, 95 degrees\, with a 40% rain! (Real feel 113) \nPlease hydrate prior to\, and during the mission to prevent heat stress \nRide Captain:\nJerry “DeadEye” Ashby\ntripower@suddenlink.net\n501-940-7124
URL:https://www.patriotguard.org/mission/russell-bruce-kyzer-65-usa/
CATEGORIES:Archive
END:VEVENT
END:VCALENDAR