BEGIN:VCALENDAR
VERSION:2.0
PRODID:-//Patriot Guard Riders - ECPv5.6.0//NONSGML v1.0//EN
CALSCALE:GREGORIAN
METHOD:PUBLISH
X-WR-CALNAME:Patriot Guard Riders
X-ORIGINAL-URL:https://www.patriotguard.org
X-WR-CALDESC:Events for Patriot Guard Riders
BEGIN:VTIMEZONE
TZID:America/New_York
BEGIN:DAYLIGHT
TZOFFSETFROM:-0500
TZOFFSETTO:-0400
TZNAME:EDT
DTSTART:20160313T070000
END:DAYLIGHT
BEGIN:STANDARD
TZOFFSETFROM:-0400
TZOFFSETTO:-0500
TZNAME:EST
DTSTART:20161106T060000
END:STANDARD
END:VTIMEZONE
BEGIN:VEVENT
DTSTART;TZID=America/New_York:20160715T090000
DTEND;TZID=America/New_York:20160715T110000
DTSTAMP:20210512T152415
CREATED:20160715T130000Z
LAST-MODIFIED:20191201T144317Z
UID:410576-1468573200-1468580400@www.patriotguard.org
SUMMARY:Rudy Fred Purcella\, 95\, USMC
DESCRIPTION:Ladies and Gentlemen of the Patriot Guard Riders\, we have been requested to stand for Rudy Fred Purcella\, age 95. He was born in Portland\, OR as a first generation Italian American. Rudy’s parents were immigrants of Calabria\, Italy. Following graduation from Benson High School\, he enlisted in the Marine Corps and served in WWII from 1944 to 1946. Rudy was honorably discharged as an ACk (Assistant Cook\, E5). Please join us as we help support his family\, pay our respects\, and honor his service to our nation. \nMission Date: Friday\, 15/JUL/16\nRide Captain:   Lynn Morett p_morett@yahoo.com\nStaging Location: St. Phillip Neri Catholic Church – 2408 SE 16th Ave\, Portland\, OR 97214 \nStaging Time: 9:30 am\nBriefing: 9:50 am\nFlag line Set:  10:00 am\nService Begins: 10:30 am \n*** There will be military honors at 10:30 am prior to the Catholic Mass at 11:00 am. PGR will be dismissed at the conclusion of the military honors.
URL:https://www.patriotguard.org/mission/rudy-fred-purcella-95-usmc/
CATEGORIES:Archive
END:VEVENT
END:VCALENDAR