BEGIN:VCALENDAR
VERSION:2.0
PRODID:-//Patriot Guard Riders - ECPv5.6.0//NONSGML v1.0//EN
CALSCALE:GREGORIAN
METHOD:PUBLISH
X-WR-CALNAME:Patriot Guard Riders
X-ORIGINAL-URL:https://www.patriotguard.org
X-WR-CALDESC:Events for Patriot Guard Riders
BEGIN:VTIMEZONE
TZID:America/New_York
BEGIN:DAYLIGHT
TZOFFSETFROM:-0500
TZOFFSETTO:-0400
TZNAME:EDT
DTSTART:20160313T070000
END:DAYLIGHT
BEGIN:STANDARD
TZOFFSETFROM:-0400
TZOFFSETTO:-0500
TZNAME:EST
DTSTART:20161106T060000
END:STANDARD
END:VTIMEZONE
BEGIN:VEVENT
DTSTART;TZID=America/New_York:20160722T090000
DTEND;TZID=America/New_York:20160722T110000
DTSTAMP:20210512T150723
CREATED:20160722T130000Z
LAST-MODIFIED:20191201T144140Z
UID:410429-1469178000-1469185200@www.patriotguard.org
SUMMARY:Royce D. Hedgepeth\, USAR\, Korea / South Jordan
DESCRIPTION:SSgt. Royce D. Hedgepeth\nUS Army Reserves \n\n\nThe Patriot Guard Riders have been requested to stand a flag line for SSgt. Royce D Hedgepeth. \nSSgt. Royce D Hedgepeth served in the U.S. Army Reserves during the Korean War. \nThis will be a Veterans format. The service will be at Jenkins-Soffe Mortuary\, 1007 W South Jordan Parkway in South Jordan at 11:00 AM on Friday\, July 22\, 2016. We will stand a flag line at the mortuary and then escort SSgt. Royce D Hedgepeth to his final resting place in the Memorial Mountain View Cemetery on 3115 E. 7800 S in Cottonwood Heights\, where we will stand another flag line. \nThe ride captain for this mission will be Arnold Casey and he can be reached at: 801-842-9374. \nStaging: 11:00 AM at Maverik\, 10425 S 1300 W\, South Jordan.\nKSU: 11:30 AM \nWeather: Sunny with a high of 98. Please dress accordingly and keep yourself hydrated. \nThank you SSgt. Royce D Hedgepeth for your service. \nAnyone attending in a cage and willing to transport flags please contact Arnold Casey at: 801-842-9374.
URL:https://www.patriotguard.org/mission/royce-d-hedgepeth-usar-korea-south-jordan/
CATEGORIES:Archive
END:VEVENT
END:VCALENDAR