BEGIN:VCALENDAR
VERSION:2.0
PRODID:-//Patriot Guard Riders - ECPv5.3.2.1//NONSGML v1.0//EN
CALSCALE:GREGORIAN
METHOD:PUBLISH
X-WR-CALNAME:Patriot Guard Riders
X-ORIGINAL-URL:https://www.patriotguard.org
X-WR-CALDESC:Events for Patriot Guard Riders
BEGIN:VTIMEZONE
TZID:America/New_York
BEGIN:DAYLIGHT
TZOFFSETFROM:-0500
TZOFFSETTO:-0400
TZNAME:EDT
DTSTART:20190310T070000
END:DAYLIGHT
BEGIN:STANDARD
TZOFFSETFROM:-0400
TZOFFSETTO:-0500
TZNAME:EST
DTSTART:20191103T060000
END:STANDARD
END:VTIMEZONE
BEGIN:VEVENT
DTSTART;VALUE=DATE:20190809
DTEND;VALUE=DATE:20190810
DTSTAMP:20210402T073606
CREATED:20190809T053108Z
LAST-MODIFIED:20190809T053108Z
UID:170225-1565308800-1565395199@www.patriotguard.org
SUMMARY:Roy T. Bolding
DESCRIPTION:Honor Mission\nRoy T. Bolding\, Veteran\nUSMC\nDallas\, Texas – 08-09-19\n\n\n \n\nABOUT THE MISSION: \nMr. Bolding served from 1963 to 1967.\n\n\nPRIMARY STAGING DETAILS: 08-09-19 \nStaging Time: 10:15 am\n \nDFW National Cemetery\n2000 Mountain Creek Pkwy\nDallas\, Texas 75211\n\n\nRide Captain: \nJeffrey Wike\nasm757@att.net\n(817) 301-4293\n\n\nSpecial Instructions: \nBriefing Time:1030\nIn Position/KSU Time:1045\nStarting Time:1100\nRiders will stage at the DFW National Cemetery Visitor’s Center for a short mission brief. After the briefing\, selected Honor Bikes will move to the assigned staging lane and prepare for the procession. The remaining riders will move to the designated shelter to set flags and establish the Flag Line in preparation for the arrival of Mr. Bolding\, family and friends. At the conclusion of the service\, flags will be furled and returned to storage followed by riders debrief and dismissal.\n\nFlags & Water:\nFlags will be provided\nIf you have large bike flags\, please bring them.\nWater will be provided.\n\n\n\nSubmitted By: Dan Mathys \nPosition: Texas Ride Captain \n\nNote: You do not have to own/ride a motorcycle or be a veteran to join\, and membership is Free. The only requirement is RESPECT! To subscribe to receive mission notices\, log into the National Site and click on the Members tab at the top. Select the Subscribe to PGR Missions option.\n Print This Page
URL:https://www.patriotguard.org/mission/roy-t-bolding/
CATEGORIES:Honor Mission
END:VEVENT
END:VCALENDAR