BEGIN:VCALENDAR
VERSION:2.0
PRODID:-//Patriot Guard Riders - ECPv5.3.2.1//NONSGML v1.0//EN
CALSCALE:GREGORIAN
METHOD:PUBLISH
X-WR-CALNAME:Patriot Guard Riders
X-ORIGINAL-URL:https://www.patriotguard.org
X-WR-CALDESC:Events for Patriot Guard Riders
BEGIN:VTIMEZONE
TZID:America/New_York
BEGIN:DAYLIGHT
TZOFFSETFROM:-0500
TZOFFSETTO:-0400
TZNAME:EDT
DTSTART:20190310T070000
END:DAYLIGHT
BEGIN:STANDARD
TZOFFSETFROM:-0400
TZOFFSETTO:-0500
TZNAME:EST
DTSTART:20191103T060000
END:STANDARD
END:VTIMEZONE
BEGIN:VEVENT
DTSTART;VALUE=DATE:20190712
DTEND;VALUE=DATE:20190713
DTSTAMP:20210404T030816
CREATED:20190710T141846Z
LAST-MODIFIED:20190710T141846Z
UID:167148-1562889600-1562975999@www.patriotguard.org
SUMMARY:Roy Oscar Burchfield
DESCRIPTION:Honor Mission\nRoy Oscar Burchfield\, Retired\, Veteran\nUSA – Vietnam\nSpanish Fort\, Alabama – 07-12-19\n\n\n \n\nABOUT THE MISSION: \nRoy Burchfield served in the US Army as a Tracker and RTO for a Combat Tracker Team in Vietnam. He retired from the Army after 27 years of service to his country. Roy was instrumental in bringing the Alabama War Dog Memorial at Battleship Park to fruition. Awards and commendations include NDSM\, Army Commendation Medal\, Overseas Service Ribbon\, Vietnam Campaign Medal\, Vietnam Service Medal w/ 1 Silver Star and 2 Bronze Service Stars\, Army Achievement Medal\, Army Good Conduct Medal (4 awards)\, CIB\, Air Medal\, Vietnam Cross of Gallantry (Unit)\, NCO Professional Development\, and an Honorable discharge.It shall be our honor to ESCORT and stand a silent flag line at his committal service at 1:30 p.m.Mr. Burchfield stood many a hard day and night so that we might be safe and free. Now it is our turn to stand and honor him for his service and sacrifice. Ride safely!\n\n\nPRIMARY STAGING DETAILS: 07-12-19 \nStaging Time: 12:30 pm \nRouse’s parking lot\n(formerly Old Dollar Gen’l)\nIntersection of Hwy 31 & 225\nSpanish Fort\, Alabama 36527\n\n\nRide Captain: \nLloyd Pursley\nlloydpursley@gmail.com\n(251) 422-0696\n\n\nSpecial Instructions: \nBriefing: 12:45 p.m.\nProcession Arrival: +/- 1:00 p.m. with LEO.\nAllow Lead car to pass parking lot exit and escort hearse and procession to ASVMC.\nKSU: As soon as procession arrives\nCommittal: 1:30 p.m.\nHonor Guard – Yes.\nFlags and Support: Committal Storeroom\nWeather: 90 degrees / 70% chance of rain.\nStay Hydrated!\n\nFlags & Water:\nFlags will be provided\nIf you have large bike flags\, please bring them.\nWater will be provided.\n\n\n\nSubmitted By: Lloyd Pursley \nPosition: Alabama Ride Captain \n\nNote: You do not have to own/ride a motorcycle or be a veteran to join\, and membership is Free. The only requirement is RESPECT! To subscribe to receive mission notices\, log into the National Site and click on the Members tab at the top. Select the Subscribe to PGR Missions option.\n Print This Page
URL:https://www.patriotguard.org/mission/roy-oscar-burchfield/
CATEGORIES:Honor Mission
END:VEVENT
END:VCALENDAR