BEGIN:VCALENDAR
VERSION:2.0
PRODID:-//Patriot Guard Riders - ECPv5.6.0//NONSGML v1.0//EN
CALSCALE:GREGORIAN
METHOD:PUBLISH
X-WR-CALNAME:Patriot Guard Riders
X-ORIGINAL-URL:https://www.patriotguard.org
X-WR-CALDESC:Events for Patriot Guard Riders
BEGIN:VTIMEZONE
TZID:America/New_York
BEGIN:DAYLIGHT
TZOFFSETFROM:-0500
TZOFFSETTO:-0400
TZNAME:EDT
DTSTART:20160313T070000
END:DAYLIGHT
BEGIN:STANDARD
TZOFFSETFROM:-0400
TZOFFSETTO:-0500
TZNAME:EST
DTSTART:20161106T060000
END:STANDARD
END:VTIMEZONE
BEGIN:VEVENT
DTSTART;TZID=America/New_York:20160616T090000
DTEND;TZID=America/New_York:20160616T110000
DTSTAMP:20210513T154452
CREATED:20160616T130000Z
LAST-MODIFIED:20191201T145037Z
UID:411244-1466067600-1466074800@www.patriotguard.org
SUMMARY:Roy M. Gonzales
DESCRIPTION:MISSION BLAST – FINAL ITINERARY \nPatriot’s Name: SPECIALIST  ROY M. GONZALES \nMission Name:  Veteran  Memorial Service with CAISSON \nMilitary Branch:  UNITED STATES ARMY \nDate of Mission:  THURSDAY  16 June 2016 \nStaging Time:  1045 hrs \nBriefing Time:  1115 hrs \nIn position:  1130 hrs \nStaging Address:  American Heritage Funeral Home\,\n10710 Veterans Memorial Dr\, Houston\,  Texas  77038 \nMission details:  Flag Line at Funeral Home with Caisson to Houston National Cemetery.  WE  WILL NEED 4 CAISSON WALKERS \nObituary: Roy M. Gonzales served a Specialist in the Army. He was a mechanic stationed in Germany. He was a smart\, friendly and a craftsman with his hands. Roy never met a stranger.\n\nA PGR family member requested the Patriot Guard to Stand Tall and Silent for his loved one.\n\nRoy is survived by 2 sons. \nRide Captain:  John Goff\nRC Phone number: 281-468-5488\nRC Email address:  jgoffsr@aol.com\n\nRide Captain:  Dee Goff\nRC Phone number:281-468-5488\nRC Email address:  jgoffsr@aol.com\n\nRide Captain/Support Vehicle:  Ken Strube \nRC/S.V. Phone number:  281-250-7659\nRC/S.V. Email: kstrube1@windstream.net\n\nWeather Forecast: High 89\, some clouds
URL:https://www.patriotguard.org/mission/roy-m-gonzales/
CATEGORIES:Archive
END:VEVENT
END:VCALENDAR