BEGIN:VCALENDAR
VERSION:2.0
PRODID:-//Patriot Guard Riders - ECPv5.3.2.1//NONSGML v1.0//EN
CALSCALE:GREGORIAN
METHOD:PUBLISH
X-WR-CALNAME:Patriot Guard Riders
X-ORIGINAL-URL:https://www.patriotguard.org
X-WR-CALDESC:Events for Patriot Guard Riders
BEGIN:VTIMEZONE
TZID:America/New_York
BEGIN:DAYLIGHT
TZOFFSETFROM:-0500
TZOFFSETTO:-0400
TZNAME:EDT
DTSTART:20190310T070000
END:DAYLIGHT
BEGIN:STANDARD
TZOFFSETFROM:-0400
TZOFFSETTO:-0500
TZNAME:EST
DTSTART:20191103T060000
END:STANDARD
END:VTIMEZONE
BEGIN:VEVENT
DTSTART;VALUE=DATE:20190714
DTEND;VALUE=DATE:20190717
DTSTAMP:20210403T201245
CREATED:20190713T134414Z
LAST-MODIFIED:20190713T134414Z
UID:167546-1563062400-1563321599@www.patriotguard.org
SUMMARY:Roy Lee Chastain\, Jr.
DESCRIPTION:Honor Mission\nRoy Lee Chastain\, Jr.\, Veteran\nUSN – Vietnam\nMULTI-CITY\, Texas – 07-14-19\n\n\n\nABOUT THE MISSION: \n The family of Mr. Roy Lee Chastain\, Jr. has invited the Patriot Guard Riders to honor his memory and service to our Country by standing a Flag Line at his memorial service and again at his interment service that will follow next week at DFW National Cemetery. Roy Lee Chastain\, Jr. served aboard the USS Forrestal during Vietnam as an aircraft engine mechanic. He was awarded the National Defense Service Medal and the Vietnam Service Medal.\n\n\nPRIMARY STAGING DETAILS: 07-14-19 \nStaging Time: 3:00 PM\n \nWhite Family Funeral Home\n1418 Highway 59\nBowie\, Texas 76230\n\n\nRide Captain: \nJeffrey Wikea\nsm757@att.net\n(817) 301-4293\n\n\nSpecial Instructions: \nStaging Time: 3:00\nBriefing Time: 3:15\nIn Position/KSU Time: 3:30\nStarting Time: 4:00\nFollowing the brief\, we will establish the Flag Line and “stand tall and silent” as family and friends arrive. As the service begins\, we will return the flags to the support vehicle\, have a short debrief and be dismissed to reconvene at DFW National Cemetery on Tuesday\, July 16th.\n\n\nFlags & Water:\nFlags will be provided\nLarge Bike Flags will NOT be needed.\nWater will be provided.\n\nSTAGING #2 DETAILS: 07-16-19 \nStaging Time: 11:45 AM\n \nDFW National Cemetery\n2000 Mountain Creek Pkwy\nDallas\, Texas 75211\n\n\nRide Captain: \nJeffrey Wikea\nsm757@att.ne\nt(817) 301-4293\n\n\nSpecial Instructions: \nStaging Time: 11:45\nBriefing Time: 12:00\nIn Position/KSU Time: 12:15\nStarting Time: 12:30\nRiders will stage at the DFW National Cemetery Visitor’s Center for a short mission brief. Honor Bikes will be selected\, and they will move to the appropriate staging lane and prepare for the procession to the committal shelter. The remaining riders will move to the designated committal shelter\, set the flags and establish the Flag Line to await the arrival of PO3 Chastain\, family and friends. When directed\, riders will return the flags to the storage area\, have a short debriefing and be dismissed\n\n\nFlags & Water:\nFlags will be provided\nIf you have large bike flags\, please bring them.\nWater will be provided.\n\n\n\nSubmitted By: Dan Mathys \nPosition: Texas Ride Captain \n\nNote: You do not have to own/ride a motorcycle or be a veteran to join\, and membership is Free. The only requirement is RESPECT! To subscribe to receive mission notices\, log into the National Site and click on the Members tab at the top. Select the Subscribe to PGR Missions option.\n Print This Page
URL:https://www.patriotguard.org/mission/roy-lee-chastain-jr/
CATEGORIES:Honor Mission
END:VEVENT
END:VCALENDAR