BEGIN:VCALENDAR
VERSION:2.0
PRODID:-//Patriot Guard Riders - ECPv5.6.0//NONSGML v1.0//EN
CALSCALE:GREGORIAN
METHOD:PUBLISH
X-WR-CALNAME:Patriot Guard Riders
X-ORIGINAL-URL:https://www.patriotguard.org
X-WR-CALDESC:Events for Patriot Guard Riders
BEGIN:VTIMEZONE
TZID:America/New_York
BEGIN:DAYLIGHT
TZOFFSETFROM:-0500
TZOFFSETTO:-0400
TZNAME:EDT
DTSTART:20160313T070000
END:DAYLIGHT
BEGIN:STANDARD
TZOFFSETFROM:-0400
TZOFFSETTO:-0500
TZNAME:EST
DTSTART:20161106T060000
END:STANDARD
END:VTIMEZONE
BEGIN:VEVENT
DTSTART;TZID=America/New_York:20160611T090000
DTEND;TZID=America/New_York:20160611T110000
DTSTAMP:20210513T141653
CREATED:20160611T130000Z
LAST-MODIFIED:20191201T145224Z
UID:411405-1465635600-1465642800@www.patriotguard.org
SUMMARY:Roosevelt Miller\, 82\, USA Veteran / Rembert\, Horatio
DESCRIPTION:The PGR has once again been asked to stand for another one of our fallen heroes. Roosevelt Miller’s family has asked us to help them say goodbye to their dear loved one on Saturday\, June 11\, 2016 even though he has spent most of his life on the other side of the U.S. in California as an engineer until he retired. He served in the U.S. Army many years ago and was honorably discharged from Fort Belvoir\, VA.  He lived an amazing life.  \nFull Obituary: http://www.palmermemorialchapel.com/obituaries/Roosevelt-Miller/#!/Obituary \nI am in need of some assistance for this mission. I will have the flags and water but need someone to help with the escort. The family has also asked if we could help with the folding of the flag.  If you can help with either of these that would be great. Please call me and let me know if you can help.\n\nMISSION DETAILS: SAT\, JUNE 11th\, 2016 \nSTAGING: Rembert Grocery Store\, 8395 Camden Highway (Hwy 521)\, Rembert\, SC 29128 \nMAP:  https://goo.gl/maps/4qqQ6oAJDJF2 \nASSEMBLE:  10:30 AM  \nBRIEFING: 10:45 AM \nKSU: 10:50 AM to Willow Grove AME Church\, 8105 Sumters Landing Road\, Horatio\, SC – APPROXIMATELY 10 MILES   \nChurch MAP: https://goo.gl/maps/ZAHfhEvQPdq \nFLAG LINE 11:15 TILL START OF THE SERVICE AT 12:00 NOON \nAFTER THE SERVICE WE WILL ESCORT MR. MILLER TO EVERGREEN CEMETERY 802  N Guignard Dr\, Sumter\, SC APPROXIMATELY 20 MILES. Cemetery MAP:  https://goo.gl/maps/XCS8EoY4Lpu \nRC:  John “Wideload” Foisey\nCell 803-565-3748
URL:https://www.patriotguard.org/mission/roosevelt-miller-82-usa-veteran-rembert-horatio/
CATEGORIES:Archive
END:VEVENT
END:VCALENDAR