BEGIN:VCALENDAR
VERSION:2.0
PRODID:-//Patriot Guard Riders - ECPv5.3.2.1//NONSGML v1.0//EN
CALSCALE:GREGORIAN
METHOD:PUBLISH
X-WR-CALNAME:Patriot Guard Riders
X-ORIGINAL-URL:https://www.patriotguard.org
X-WR-CALDESC:Events for Patriot Guard Riders
BEGIN:VTIMEZONE
TZID:America/New_York
BEGIN:DAYLIGHT
TZOFFSETFROM:-0500
TZOFFSETTO:-0400
TZNAME:EDT
DTSTART:20190310T070000
END:DAYLIGHT
BEGIN:STANDARD
TZOFFSETFROM:-0400
TZOFFSETTO:-0500
TZNAME:EST
DTSTART:20191103T060000
END:STANDARD
END:VTIMEZONE
BEGIN:VEVENT
DTSTART;VALUE=DATE:20190716
DTEND;VALUE=DATE:20190717
DTSTAMP:20210403T200411
CREATED:20190714T005117Z
LAST-MODIFIED:20190714T005117Z
UID:167521-1563235200-1563321599@www.patriotguard.org
SUMMARY:Ronnie Lewis Scott\, Jr.
DESCRIPTION:Honor Mission\nRonnie Lewis Scott\, Jr.\, Veteran\nUSA – WoT\nPort Allan\, Louisiana – 07-16-19\n\n\n\nABOUT THE MISSION: \nRonnie’s military service includes twelve years\, with combat deployments to Bosnia and Iraq as a Tank crew member in the Army\, attaining the rank of Sergeant First Class. He was awarded the Bronze Star Medal\, two Army Commendation Medals\, four Army Achievement Medals\, three Non-Commissioned Officer Development Ribbons\, three Army Good Conduct Medals\, both Global War on Terrorism Expeditionary and Service Medals\, Armed Forces Service Medal\, two Overseas Service Ribbons and the NATO Medal. He was very proud to have served with Charlie Company of the Elite 1/37 Armored Battalion of the First Brigade\, First Armored Division\, also known as the “Bandits.” He was renowned as one of the best Tank Commanders in the Division\n\n\nPRIMARY STAGING DETAILS: 07-16-19 \nStaging Time: 07:45 AM\n \nWilbert Funeral Home\n440 South Alexandria Ave.\nPort Allan\, Louisiana 70767\n\n\nRide Captain: \nJames Morin\n225-715-4970\nknomad15002003@yahoo.com\n\n\nSpecial Instructions: \n7:45 a.m. Staging and placing of flags\n8:00 a.m. Family visitation\n9:00 a.m. – 11:30 a.m. Visitation\n11:30 a.m. Services\n1:30 p.m. Appointment time at Louisiana National Cemetery.\nFamily has requested Patriot Guard\, Legion Riders\, Combat Vets to lead procession to cemetery.\n\n\nFlags & Water:\nFlags will be provided\nIf you have large bike flags\, please bring them.\nWater WILL NOT be provided\, please bring your own.\n\n\n\nSubmitted By: Doug Nobles \nPosition: Louisiana State Captain \n\nNote: You do not have to own/ride a motorcycle or be a veteran to join\, and membership is Free. The only requirement is RESPECT! To subscribe to receive mission notices\, log into the National Site and click on the Members tab at the top. Select the Subscribe to PGR Missions option.\n Print This Page
URL:https://www.patriotguard.org/mission/ronnie-lewis-scott-jr/
CATEGORIES:Honor Mission
END:VEVENT
END:VCALENDAR