BEGIN:VCALENDAR
VERSION:2.0
PRODID:-//Patriot Guard Riders - ECPv5.3.2.1//NONSGML v1.0//EN
CALSCALE:GREGORIAN
METHOD:PUBLISH
X-WR-CALNAME:Patriot Guard Riders
X-ORIGINAL-URL:https://www.patriotguard.org
X-WR-CALDESC:Events for Patriot Guard Riders
BEGIN:VTIMEZONE
TZID:America/New_York
BEGIN:DAYLIGHT
TZOFFSETFROM:-0500
TZOFFSETTO:-0400
TZNAME:EDT
DTSTART:20180311T070000
END:DAYLIGHT
BEGIN:STANDARD
TZOFFSETFROM:-0400
TZOFFSETTO:-0500
TZNAME:EST
DTSTART:20181104T060000
END:STANDARD
END:VTIMEZONE
BEGIN:VEVENT
DTSTART;TZID=America/New_York:20180511T074500
DTEND;TZID=America/New_York:20180511T094500
DTSTAMP:20210405T200451
CREATED:20180511T114500Z
LAST-MODIFIED:20200707T044337Z
UID:327530-1526024700-1526031900@www.patriotguard.org
SUMMARY:Ronald W. Slovacek\, Veteran\, USN - Vietnam
DESCRIPTION:Honor Mission\nRonald W. Slovacek\, Veteran\nUSN – Vietnam\nO’Fallon\, Missouri – 11 May 2018\n\n\nABOUT THE MISSION: \nThe Patriot Guard Riders have been requested to escort Ronald William Slovacek to the hallowed grounds at Jefferson Barracks National Cemetery for his final military honors. Hero Slovacek served in the United States Navy from June 1965 – June 1969 as a aviation electronics technician (navigation) and obtained the rank of Petty Officer Second Class. He received the National Defense Service Medal and the Vietnam Service Medal with one Bronze Star. It will be our privilege to escort and stand a flag line of honor and respect for this fallen hero who served proudly in the United States Navy during the Vietnam War.\nPRIMARY STAGING DETAILS: 11 May 2018\nPrimary Staging Time: 7:45 A.M. \nBaue Funeral Home – O’Fallon\n311 Wood St.\nO’Fallon\, Missouri – 63366\nRide Captain: \nJohn Faul\n256-603-1714\njmfaul@hotmail.com\nSpecial Instructions: \n7:45 AM Stage with ride meeting to follow.\n8:00 AM Departure to Jefferson Barracks National Cemetery\n9:30 AM Arrival for Military Honors\nFlags & Water: \nFlags Will Be Provided\nIf you have large bike flags\, please bring them.\nWater will be provided.\n  \n\nSubmitted By: John Faul\nPosition: Ride Captain \n\nNote:\nYou do not have to own/ride a motorcycle or be a Veteran to join and membership is Free. The only requirement is RESPECT! To join\, simply go to www.PatriotGuard.org and click on Register. Membership is Free. \nTo subscribe to receive mission notices\, log into the National Site and click on the Mission Tab at the top. Select the Subscribe to Missions option.
URL:https://www.patriotguard.org/mission/ronald-w-slovacek-veteran-usn-vietnam/
CATEGORIES:Honor Mission
END:VEVENT
END:VCALENDAR