BEGIN:VCALENDAR
VERSION:2.0
PRODID:-//Patriot Guard Riders - ECPv5.6.0//NONSGML v1.0//EN
CALSCALE:GREGORIAN
METHOD:PUBLISH
X-WR-CALNAME:Patriot Guard Riders
X-ORIGINAL-URL:https://www.patriotguard.org
X-WR-CALDESC:Events for Patriot Guard Riders
BEGIN:VTIMEZONE
TZID:America/New_York
BEGIN:DAYLIGHT
TZOFFSETFROM:-0500
TZOFFSETTO:-0400
TZNAME:EDT
DTSTART:20160313T070000
END:DAYLIGHT
BEGIN:STANDARD
TZOFFSETFROM:-0400
TZOFFSETTO:-0500
TZNAME:EST
DTSTART:20161106T060000
END:STANDARD
END:VTIMEZONE
BEGIN:VEVENT
DTSTART;TZID=America/New_York:20160610T090000
DTEND;TZID=America/New_York:20160610T110000
DTSTAMP:20210513T084039
CREATED:20160610T130000Z
LAST-MODIFIED:20191201T145310Z
UID:411475-1465549200-1465556400@www.patriotguard.org
SUMMARY:Ronald R. Fritz\, USA Veteran / Belleville
DESCRIPTION:Ronald R. Fritz\, U.S. Army\, 71\nBelleville IL / St Louis\, MO\n10 June 2016\n\n\n\nThe family of Mr. Fritz has requested the Patriot Guard Riders to honor his military service in the U.S. Army by standing a silent flag line at his funeral and providing escort to his final resting place. \nFUNERAL: Friday\, 10 June 2016 11:00 a.m. \nSt Peter’s Cathedral Catholic Church\n200 West Harrison Street\nBelleville\, IL \nStaging: 10:20 a.m. \nMission Briefing: 10:25 a.m. (family arrival from the Braun Funeral Home at ~10:55 a.m.) \nFollowing the funeral service\, we will escort Mr. Fritz\, his family\, and friends to the hallowed grounds of Jefferson Barracks National Cemetery.  Appointment time is 1:00 p.m. \nRemember helmets are required in Missouri. \n**HYDRATE**  **HYDRATE** \nRide Captain:\nAl Colvin\n618-401-1628 \nFlag Support TBD
URL:https://www.patriotguard.org/mission/ronald-r-fritz-usa-veteran-belleville/
CATEGORIES:Archive
END:VEVENT
END:VCALENDAR