BEGIN:VCALENDAR
VERSION:2.0
PRODID:-//Patriot Guard Riders - ECPv5.3.2.1//NONSGML v1.0//EN
CALSCALE:GREGORIAN
METHOD:PUBLISH
X-WR-CALNAME:Patriot Guard Riders
X-ORIGINAL-URL:https://www.patriotguard.org
X-WR-CALDESC:Events for Patriot Guard Riders
BEGIN:VTIMEZONE
TZID:America/New_York
BEGIN:DAYLIGHT
TZOFFSETFROM:-0500
TZOFFSETTO:-0400
TZNAME:EDT
DTSTART:20190310T070000
END:DAYLIGHT
BEGIN:STANDARD
TZOFFSETFROM:-0400
TZOFFSETTO:-0500
TZNAME:EST
DTSTART:20191103T060000
END:STANDARD
END:VTIMEZONE
BEGIN:VEVENT
DTSTART;VALUE=DATE:20190914
DTEND;VALUE=DATE:20190915
DTSTAMP:20210401T134906
CREATED:20190913T082352Z
LAST-MODIFIED:20190913T082352Z
UID:173790-1568419200-1568505599@www.patriotguard.org
SUMMARY:Ronald Lee Nichols
DESCRIPTION:Honor Mission\nRonald Lee Nichols\, Veteran\nUSMC – Vietnam\nInman\, South Carolina – 09-14-19\n\n\n\nABOUT THE MISSION: \nAs a young man\, Ronald Lee Nichols proudly served in the United States Marine Corps in a place called Vietnam. He served as a Rifleman in country and was trained and served as a MP upon returning stateside. Mr. Nichols also rode a motorcycle and has ridden several missions with the SCPGR. He was active in his church\, loved his family and never once stopped loving his country. Forever a Marine\, Mr. Nichols was Semper Fidelis (Always Faithful). His widow and family have requested the presence of Patriot Guard Riders on Saturday as they say goodbye to a husband\, father\, friend and United States Marine.\n\n\nPRIMARY STAGING DETAILS: 09-14-19 \nStaging Time: 12:30 PM\n \nHolly Springs Baptist Church\n251 Hannon Road\nInman\, South Carolina 29349\nMap\n\n\nRide Captain: \nSteam – Randy Stevens\nsteam@patriotguard.org\n864-344-6002\n\nFlag Transport: Kevin Farnsworth\n\n\nSpecial Instructions: \nBriefing Time: 12:45 pm\nFlag Line during visitation until service begins at 1400 (2PM).\nEscort follows of about 35 miles to cemetery in Fountain Inn SC where we will again establish a Flag Line for the graveside service.\nUnsure of speeds for escort.\nIf you choose to fly flags please be sure they are safe for highway speeds.\n\n\nFlags & Water:\nFlags will be provided\nLarge Bike Flags will NOT be needed.\nWater will be provided.\n\n\n\nSubmitted By: Randy Stevens \nPosition: South Carolina Assistant State Captain \n\nNote: You do not have to own/ride a motorcycle or be a veteran to join\, and membership is Free. The only requirement is RESPECT! To subscribe to receive mission notices\, log into the National Site and click on the Members tab at the top. Select the Subscribe to PGR Missions option.\n Print This Page
URL:https://www.patriotguard.org/mission/ronald-lee-nichols/
CATEGORIES:Honor Mission
END:VEVENT
END:VCALENDAR