BEGIN:VCALENDAR
VERSION:2.0
PRODID:-//Patriot Guard Riders - ECPv5.6.0//NONSGML v1.0//EN
CALSCALE:GREGORIAN
METHOD:PUBLISH
X-WR-CALNAME:Patriot Guard Riders
X-ORIGINAL-URL:https://www.patriotguard.org
X-WR-CALDESC:Events for Patriot Guard Riders
BEGIN:VTIMEZONE
TZID:America/New_York
BEGIN:DAYLIGHT
TZOFFSETFROM:-0500
TZOFFSETTO:-0400
TZNAME:EDT
DTSTART:20160313T070000
END:DAYLIGHT
BEGIN:STANDARD
TZOFFSETFROM:-0400
TZOFFSETTO:-0500
TZNAME:EST
DTSTART:20161106T060000
END:STANDARD
END:VTIMEZONE
BEGIN:VEVENT
DTSTART;TZID=America/New_York:20160815T090000
DTEND;TZID=America/New_York:20160815T110000
DTSTAMP:20210512T015415
CREATED:20160815T130000Z
LAST-MODIFIED:20191201T143653Z
UID:409984-1471251600-1471258800@www.patriotguard.org
SUMMARY:Ronald Lee Kurth\, USA
DESCRIPTION:The  family of Ronald Lee Kurth has respectfully requested the Patriot Guard  Riders to attend their loved ones service\, stand a silent flag line\,  and escort their loved one to the Hallowed Grounds of Jefferson Barracks  National Cemetery.\n\nCPL Kurth served in the U.S. Army during WW II as a Field Radio Operator. He received the National Defense Service Medal.. \nStage: Stygar Florissant Chapel 0845 Hrs.\n           13980 New Halls Ferry Rd.\n            Florissant Mo. 63033\n\n            (Meeting to follow)\n\nService: 1000 hrs. \nEscort: Jefferson Barracks National Cemetery\n2900 Sheridan Rd\,\n           St. Louis\, MO 63125\n\nRCIC: Jerry”Zipper”Craft\n          Fixit82@aol.com\n          314-574-8706\n\nFlags/Support: Provided\n\nHydrate\, Hydrate\, Hydrate\nHigh 82 – Low 66\n40% chance for rain\nDress Accordingly  \n\nRide/Drive Defensively\, Cages always welcome
URL:https://www.patriotguard.org/mission/ronald-lee-kurth-usa/
CATEGORIES:Archive
END:VEVENT
END:VCALENDAR