BEGIN:VCALENDAR
VERSION:2.0
PRODID:-//Patriot Guard Riders - ECPv5.3.2.1//NONSGML v1.0//EN
CALSCALE:GREGORIAN
METHOD:PUBLISH
X-WR-CALNAME:Patriot Guard Riders
X-ORIGINAL-URL:https://www.patriotguard.org
X-WR-CALDESC:Events for Patriot Guard Riders
BEGIN:VTIMEZONE
TZID:America/New_York
BEGIN:DAYLIGHT
TZOFFSETFROM:-0500
TZOFFSETTO:-0400
TZNAME:EDT
DTSTART:20190310T070000
END:DAYLIGHT
BEGIN:STANDARD
TZOFFSETFROM:-0400
TZOFFSETTO:-0500
TZNAME:EST
DTSTART:20191103T060000
END:STANDARD
END:VTIMEZONE
BEGIN:VEVENT
DTSTART;VALUE=DATE:20190703
DTEND;VALUE=DATE:20190704
DTSTAMP:20210403T194144
CREATED:20190702T153519Z
LAST-MODIFIED:20190702T153659Z
UID:166401-1562112000-1562198399@www.patriotguard.org
SUMMARY:Ronald J. Knott
DESCRIPTION:Honor Mission\nRonald J. Knott\, Veteran\nUSN\nDallas\, Texas – 07-03-19\n\n\n\nABOUT THE MISSION: \nInterment Service\, Navy Pilot Armed Forces Expeditionary Medal (Cuba)\, Navy Expeditionary Medal (Cuba)\, National Defense Service Medal.\n\n\nPRIMARY STAGING DETAILS: 07-03-19 \nStaging: 9:30 am  \nDallas-Fort Worth National Cemetery\n2000 Mountain Creek Pkwy\nDallas\, Texas 75211\n\n\nRide Captain: \nJohn Blasé\nblase02@sbcglobal.net\n(972) 467-7527\n\n\nSpecial Instructions: \nStaging: 9:30 am\nBriefing: 9:45 am\nKSU: 10:00 am\nStarting: 10:15 am\, Honor bikes will be selected at the briefing and will move to lane 2 after the briefing.  All other riders will go to the assigned shelter and wait for the procession to arrive.  At the conclusion of the service\, flags will be returned to storage\, riders debriefed and dismissed.\n\n\nFlags & Water:\nFlags will be provided\nIf you have large bike flags\, please bring them.\nWater will be provided.\n\nSubmitted By: Dan Mathys \nPosition: Texas Ride Captain \n\nNote: You do not have to own/ride a motorcycle or be a veteran to join\, and membership is Free. The only requirement is RESPECT! To subscribe to receive mission notices\, log into the National Site and click on the Members tab at the top. Select the Subscribe to PGR Missions option.\n Print This Page
URL:https://www.patriotguard.org/mission/ronald-j-knott/
CATEGORIES:Honor Mission
END:VEVENT
END:VCALENDAR