BEGIN:VCALENDAR
VERSION:2.0
PRODID:-//Patriot Guard Riders - ECPv5.6.0//NONSGML v1.0//EN
CALSCALE:GREGORIAN
METHOD:PUBLISH
X-WR-CALNAME:Patriot Guard Riders
X-ORIGINAL-URL:https://www.patriotguard.org
X-WR-CALDESC:Events for Patriot Guard Riders
BEGIN:VTIMEZONE
TZID:America/New_York
BEGIN:DAYLIGHT
TZOFFSETFROM:-0500
TZOFFSETTO:-0400
TZNAME:EDT
DTSTART:20160313T070000
END:DAYLIGHT
BEGIN:STANDARD
TZOFFSETFROM:-0400
TZOFFSETTO:-0500
TZNAME:EST
DTSTART:20161106T060000
END:STANDARD
END:VTIMEZONE
BEGIN:VEVENT
DTSTART;TZID=America/New_York:20160808T090000
DTEND;TZID=America/New_York:20160808T110000
DTSTAMP:20210511T191758
CREATED:20160808T130000Z
LAST-MODIFIED:20191201T143815Z
UID:410114-1470646800-1470654000@www.patriotguard.org
SUMMARY:Ronald J. Baalmann\, USAF Veteran
DESCRIPTION:Ronald J. Baalmann\nU.S. Air Force Veteran / PGR Member\nSt. Charles\, MO\n8 Aug. 2016\n\n\n\nThe Family of RONALD J. BAALMANN has respectfully requested the Patriot Guard Riders assist with the services of their loved one by Standing a Tall and Silent Flag Line of Honor and Respect\, and escorting him to his final place of rest\, the Hallowed Grounds of Jefferson Barracks National Cemetery. \nMr. Baalmann served his country with Honor in the United States Air Force from Feb. 28 1968 until Feb. 25 1972\, earning the Rank of Sgt.  Sgt. Baalmann served as a Silo Missile Site Maintenance Sgt. in Minot N. Dakota. There is no further military information available about Sgt. Baalmann. \nUpon completion of his military service Sgt. Baalmann was employed as a car salesman\, then worked as a financial Representative at a Mercantile Bank and a U.S. Bank. \nSgt. Baalmann was a member of the Patriot Guard Riders and was able over the years to do missions as his work allowed. In more recent years Sgt. Baalmann’s illness made him unable to participate in Patriot Guard Missions. \nSTAGE:\nBaue Funeral Home\n3950 W. Clay\nSt. Charles\, MO 63301\nMonday Aug 8th 2016 at 10:45 A.M. \nFLAG LINE: 11:00 A.M. til 12:00 P.M.\nArrival of Family and Friends \nSERVICE: 12:00 P.M.\nBaue Funeral Home Chapel \nESCORT:\nJefferson Barracks National Cemetery\nTime Slot 2:00 P.M. \nFLAG SUPPORT:\nDanny”Wolfman”Reinbold \nRIDE CAPTAIN:\nBob”GrampyBob”Griffith\npgr4559@yahoo.com
URL:https://www.patriotguard.org/mission/ronald-j-baalmann-usaf-veteran/
CATEGORIES:Archive
END:VEVENT
END:VCALENDAR