BEGIN:VCALENDAR
VERSION:2.0
PRODID:-//Patriot Guard Riders - ECPv5.3.2.1//NONSGML v1.0//EN
CALSCALE:GREGORIAN
METHOD:PUBLISH
X-WR-CALNAME:Patriot Guard Riders
X-ORIGINAL-URL:https://www.patriotguard.org
X-WR-CALDESC:Events for Patriot Guard Riders
BEGIN:VTIMEZONE
TZID:America/New_York
BEGIN:DAYLIGHT
TZOFFSETFROM:-0500
TZOFFSETTO:-0400
TZNAME:EDT
DTSTART:20190310T070000
END:DAYLIGHT
BEGIN:STANDARD
TZOFFSETFROM:-0400
TZOFFSETTO:-0500
TZNAME:EST
DTSTART:20191103T060000
END:STANDARD
END:VTIMEZONE
BEGIN:VEVENT
DTSTART;VALUE=DATE:20190604
DTEND;VALUE=DATE:20190605
DTSTAMP:20210405T065135
CREATED:20190602T151901Z
LAST-MODIFIED:20190602T151901Z
UID:163364-1559606400-1559692799@www.patriotguard.org
SUMMARY:Ronald E. Finnegan
DESCRIPTION:Honor Mission\nRonald E. Finnegan\, Veteran\nUSAF\, ANG – Vietnam\nPortland\, Oregon – 06-04-19\n\n\n\n\nABOUT THE MISSION: \nWe have been invited to stand for Ronald E. Finnegan\, age 70.  Ronald first served in the US Air Force from 21 December 1966 to 18 December 1970. He then transferred to the Air Force National Guard at the Portland Air National Guard Base from 19 December 1970 to 9 December 1973. Ronald was a Security Policeman with the 142nd Combat Support Squadron.  He was honorably discharged at the rank of Staff Sergeant (E5). Please join us as we pay our respects and honor his service to our nation.\n\n\nPRIMARY STAGING DETAILS: 06-04-19 \nStaging Time: 1:30 p.m. \nWillamette National Cemetery\n11800 SE Mt Scott Blvd\nPortland\, Oregon 97086\n\n\nRide Captain: \nBlue Bickford\ndrbluepsu@gmail.com\n\n\nSpecial Instructions: \nBriefing: 1:50 pm\nKSU: 2:00 pm\nFlag line Set: 2:15 pm\nService Begins: 2:30 pm\n\nMeet up top at the Rostrum by the flagpole. Please enter the cemetery through Gate 2 – across from Lincoln Memorial. *** There will be an RHG by SWWA thru to the Shelter ***\n\n\nFlags & Water:\nFlags will not be provided\nIf you have large bike flags\, please bring them.\nWater WILL NOT be provided\, please bring your own.\n\n\n\nSubmitted By: John Hanan II \nPosition: Oregon State Captain \n\nNote: You do not have to own/ride a motorcycle or be a veteran to join\, and membership is Free. The only requirement is RESPECT! To subscribe to receive mission notices\, log into the National Site and click on the Members tab at the top. Select the Subscribe to PGR Missions option.\n Print This Page
URL:https://www.patriotguard.org/mission/ronald-e-finnegan/
CATEGORIES:Honor Mission
END:VEVENT
END:VCALENDAR