BEGIN:VCALENDAR
VERSION:2.0
PRODID:-//Patriot Guard Riders - ECPv5.3.2.1//NONSGML v1.0//EN
CALSCALE:GREGORIAN
METHOD:PUBLISH
X-WR-CALNAME:Patriot Guard Riders
X-ORIGINAL-URL:https://www.patriotguard.org
X-WR-CALDESC:Events for Patriot Guard Riders
BEGIN:VTIMEZONE
TZID:America/New_York
BEGIN:DAYLIGHT
TZOFFSETFROM:-0500
TZOFFSETTO:-0400
TZNAME:EDT
DTSTART:20190310T070000
END:DAYLIGHT
BEGIN:STANDARD
TZOFFSETFROM:-0400
TZOFFSETTO:-0500
TZNAME:EST
DTSTART:20191103T060000
END:STANDARD
END:VTIMEZONE
BEGIN:VEVENT
DTSTART;VALUE=DATE:20190730
DTEND;VALUE=DATE:20190731
DTSTAMP:20210402T194346
CREATED:20190728T000358Z
LAST-MODIFIED:20190728T153521Z
UID:168961-1564444800-1564531199@www.patriotguard.org
SUMMARY:Ronald Dwayne Jackson
DESCRIPTION:Honor Mission\nRonald Dwayne Jackson\, Veteran\nUSA – GW/ODS\nMulti-City\, Georgia – 07-30-19\n\n\nABOUT THE MISSION:\n\n\nThe family of United States Army Vietnam Veteran SP4 Ronald Dwayne Jackson has requested the Patriot Guard Riders to escort and stand him for him and it will be our honor to do so.\n\n\nPRIMARY STAGING DETAILS: 07-30-19 \nStaging Time: 12:15 pm \nMacedonia Missionary Baptist Church\n521 Martin Luther King Jr. Drive\nCartersville\, Georgia 30120\n\n\nRide Captain: \nSid ‘Squirrel’ Kelly\nsidkelly423@gmail.com\n404-273-7127\n\n\nSpecial Instructions: \nStage in parking lot at 12:15 pm for a safety briefing\nKSU with LEO Escort is scheduled for 12:45 pm\n\n\nFlags & Water:\nFlags will not be provided\nIf you have large bike flags\, please bring them.\nWater WILL NOT be provided\, please bring your own.\n\nSTAGING #2 DETAILS: 07-30-19 \nStaging Time: 1:15 pm \n\nGeorgia National Cemetery\n1080 Scott Hudgens Dr\nCanton\, Georgia 30117\n\n\n\nRide Captain: \nSid ‘Squirrel’ Kelly\nsidkelly423@gmail.com\n404-273-7127\n\n\nSpecial Instructions: \nFor those who want to meet at GNC and not be a part of the escort. Stage at the MIA/POW flag pole for a short briefing and then we will move to the assigned shelter when appropriate. Interment Service is scheduled for 2:00 pm.\n\n\nFlags & Water:\nFlags will be provided\nLarge Bike Flags will NOT be needed.\nWater will be provided.\n\n\n\nSubmitted By: Sidney Kelly \nPosition: Georgia Ride Captain \n\nNote: You do not have to own/ride a motorcycle or be a veteran to join\, and membership is Free. The only requirement is RESPECT! To subscribe to receive mission notices\, log into the National Site and click on the Members tab at the top. Select the Subscribe to PGR Missions option.\n Print This Page
URL:https://www.patriotguard.org/mission/ronald-dwayne-jackson/
CATEGORIES:Honor Mission
END:VEVENT
END:VCALENDAR