BEGIN:VCALENDAR
VERSION:2.0
PRODID:-//Patriot Guard Riders - ECPv5.6.0//NONSGML v1.0//EN
CALSCALE:GREGORIAN
METHOD:PUBLISH
X-WR-CALNAME:Patriot Guard Riders
X-ORIGINAL-URL:https://www.patriotguard.org
X-WR-CALDESC:Events for Patriot Guard Riders
BEGIN:VTIMEZONE
TZID:America/New_York
BEGIN:DAYLIGHT
TZOFFSETFROM:-0500
TZOFFSETTO:-0400
TZNAME:EDT
DTSTART:20160313T070000
END:DAYLIGHT
BEGIN:STANDARD
TZOFFSETFROM:-0400
TZOFFSETTO:-0500
TZNAME:EST
DTSTART:20161106T060000
END:STANDARD
END:VTIMEZONE
BEGIN:VEVENT
DTSTART;TZID=America/New_York:20160613T090000
DTEND;TZID=America/New_York:20160613T110000
DTSTAMP:20210513T161147
CREATED:20160613T130000Z
LAST-MODIFIED:20191201T145207Z
UID:411381-1465808400-1465815600@www.patriotguard.org
SUMMARY:Ronald Dale Turner\, USA
DESCRIPTION:SP5 Ronald Dale Turner – US Army Vietnam Veteran – Duncan\, OK\, 13 Jun 16 \nThe family of SP5 Ronald Dale Turner\, US Army Vietnam Veteran\, has requested the Patriot Guard Riders to stand and honor their fallen Hero. \nSP5 Turner entered the US Army in 1968\, served a tour in Vietnam\, and having fulfilled his obligation was Honorably Discharged in 1970.  Services will be conducted at Bailes-Polk Funeral Home\, 910 W Oak Ave\, Duncan\, Ok at 10:00 AM\, Monday\, 13 June 2016.  The Stephens County Honor Guard will honor our Hero with Full Military Honors. \nStaging:  9:00 AM\nBailes-Polk Funeral Home\n910 W Oak Ave\nDuncan\, OK \nMandatory Briefing:  9:15 AM \nSet Flag/Respect line:  9:30 AM for arriving family and guests \nRCIC:\nBill Hamilton\nchaseok@cableone.net\n(580) 475-6468
URL:https://www.patriotguard.org/mission/ronald-dale-turner-usa/
CATEGORIES:Archive
END:VEVENT
END:VCALENDAR