BEGIN:VCALENDAR
VERSION:2.0
PRODID:-//Patriot Guard Riders - ECPv5.3.2.1//NONSGML v1.0//EN
CALSCALE:GREGORIAN
METHOD:PUBLISH
X-WR-CALNAME:Patriot Guard Riders
X-ORIGINAL-URL:https://www.patriotguard.org
X-WR-CALDESC:Events for Patriot Guard Riders
BEGIN:VTIMEZONE
TZID:America/New_York
BEGIN:DAYLIGHT
TZOFFSETFROM:-0500
TZOFFSETTO:-0400
TZNAME:EDT
DTSTART:20190310T070000
END:DAYLIGHT
BEGIN:STANDARD
TZOFFSETFROM:-0400
TZOFFSETTO:-0500
TZNAME:EST
DTSTART:20191103T060000
END:STANDARD
END:VTIMEZONE
BEGIN:VEVENT
DTSTART;VALUE=DATE:20190530
DTEND;VALUE=DATE:20190531
DTSTAMP:20210405T074716
CREATED:20190528T212445Z
LAST-MODIFIED:20190528T212445Z
UID:162729-1559174400-1559260799@www.patriotguard.org
SUMMARY:Ronald Coleman Perkins Sr.
DESCRIPTION:Honor Mission\nRonald Coleman Perkins Sr.\, Retired\nUSAF –\nWarner Robins\, Georgia – 05-30-19\n\n\n\n\nABOUT THE MISSION: \nThe Patriot Guard Riders have been requested by the family to stand in honor of their loved one’s service to our Nation. TSGT Ronald Coleman Perkins Sr. (84)\, United States Air Force Retired served 22 years of faithful service\, After his service\, Mr. Perkins worked with civil service at Robins Air Force Base retiring after many years of service. Mr. Perkins is survived by five children\, three grandchildren\, four great grandchildren\, and many friends.\n\n\nPRIMARY STAGING DETAILS: 05-30-19 \nStaging Time: 13:45  \nMcCullough Funeral Home\n417 S. Houston Lake Road\nWarner Robins\, Georgia 31088\n\n\nRide Captain: \nLee “vulcangunner” Love\nvulcangunner2@windstream.net\n(478)952-2097\n\n\nSpecial Instructions: \nFlag line from 2:00 PM until the service starts at 3:00 PM. After the service\, we have an LEO assisted escort to Magnolia Park Cemetery\, 205 South Pleasant Hill Road\, Warner Robins for burial with full military honors.\n\n\nFlags & Water:\n\nFlags will be provided\nIf you have large bike flags\, please bring them.\nWater will be provided.\n\nSubmitted By: Henry L. Love \nPosition: Georgia Ride Captain \n\nNote: You do not have to own/ride a motorcycle or be a veteran to join\, and membership is Free. The only requirement is RESPECT! To subscribe to receive mission notices\, log into the National Site and click on the Members tab at the top. Select the Subscribe to PGR Missions option.\n Print This Page
URL:https://www.patriotguard.org/mission/ronald-coleman-perkins-sr/
CATEGORIES:Honor Mission
END:VEVENT
END:VCALENDAR