BEGIN:VCALENDAR
VERSION:2.0
PRODID:-//Patriot Guard Riders - ECPv5.6.0//NONSGML v1.0//EN
CALSCALE:GREGORIAN
METHOD:PUBLISH
X-WR-CALNAME:Patriot Guard Riders
X-ORIGINAL-URL:https://www.patriotguard.org
X-WR-CALDESC:Events for Patriot Guard Riders
BEGIN:VTIMEZONE
TZID:America/New_York
BEGIN:DAYLIGHT
TZOFFSETFROM:-0500
TZOFFSETTO:-0400
TZNAME:EDT
DTSTART:20160313T070000
END:DAYLIGHT
BEGIN:STANDARD
TZOFFSETFROM:-0400
TZOFFSETTO:-0500
TZNAME:EST
DTSTART:20161106T060000
END:STANDARD
END:VTIMEZONE
BEGIN:VEVENT
DTSTART;TZID=America/New_York:20160826T090000
DTEND;TZID=America/New_York:20160826T110000
DTSTAMP:20210512T030700
CREATED:20160826T130000Z
LAST-MODIFIED:20191201T143349Z
UID:409701-1472202000-1472209200@www.patriotguard.org
SUMMARY:Ronald Cave\, USN
DESCRIPTION:Ronald Cave\nUS Navy Vietnam Veteran\nSt. Louis\, MO\n26 Aug 16\n\n\n\nThe Family of Ronald Cave has invited the Patriot Guard to stand a flag line prior to his funeral service and to provide an honor escort to his final resting place at Jefferson Barracks National Cemetery following his service. \nMr. Cave served in the Navy from 1962 to 1966 and was a Store Keeper 3rd Class. (E-4). He served 2 years 8 month’s sea duty aboard the USS Princeton during the Vietnam War. He earned the Vietnam Service Medal and the National Defense Service Medal. \nStage: Friday\, August 26\, 2016 11:45 AM\nZiegenhein South County Chapel\n4830 Lemay Ferry Rd.\nSt. Louis\, MO 63129 \nService: 1:00 PM  Jefferson Barracks slot: 2:00 PM\nRED SHIRT FRIDAY \nRC/Flags Denny Dutchman Eads\n314-277-2821
URL:https://www.patriotguard.org/mission/ronald-cave-usn/
CATEGORIES:Archive
END:VEVENT
END:VCALENDAR