BEGIN:VCALENDAR
VERSION:2.0
PRODID:-//Patriot Guard Riders - ECPv5.6.0//NONSGML v1.0//EN
CALSCALE:GREGORIAN
METHOD:PUBLISH
X-WR-CALNAME:Patriot Guard Riders
X-ORIGINAL-URL:https://www.patriotguard.org
X-WR-CALDESC:Events for Patriot Guard Riders
BEGIN:VTIMEZONE
TZID:America/New_York
BEGIN:DAYLIGHT
TZOFFSETFROM:-0500
TZOFFSETTO:-0400
TZNAME:EDT
DTSTART:20160313T070000
END:DAYLIGHT
BEGIN:STANDARD
TZOFFSETFROM:-0400
TZOFFSETTO:-0500
TZNAME:EST
DTSTART:20161106T060000
END:STANDARD
END:VTIMEZONE
BEGIN:VEVENT
DTSTART;TZID=America/New_York:20160607T090000
DTEND;TZID=America/New_York:20160607T110000
DTSTAMP:20210513T143609
CREATED:20160607T130000Z
LAST-MODIFIED:20191201T145400Z
UID:411551-1465290000-1465297200@www.patriotguard.org
SUMMARY:Ronald Carson\, USN\, Vietnam / Coeur d'Alene\, ID
DESCRIPTION:Ladies and Gentlemen of the Patriot Guard Riders\, \nWe have been invited by the Family of Ronald “KIT” Carson a Navy Veteran\, to provide a Rolling Honor Guard to escort him to his final resting place and stand a Flag Line to honor his service to our country and for our freedom at the Washington Veterans Cemetery in Medical Lake\, WA. Tuesday\, 7 June\, 11:15 am. \nStaging: WinCo Foods parking lot on Appleway and Ramsey\, in Coeur d’Alene\, Idaho \nTime:….9:15 am \nBrief:….9:30 am \nKSU:……9:45 am \nPatriot Guard will move from the stage location lead with Missing Man Formation. We will proceed in this formation all the way to the Washington Veterans Cemetery in Medical Lake\, WA with the Missing Man Formation lining up in the holding lot for the 11:15 ceremony\, while the remainder of the PGR form a flag line up at the Chapel. Upon conclusion of Military Honors\, the Patriot Guard will stand down and begin a quiet exit from the facility. The Washington PGR will be invited to join us\, and provide flags for both the Idaho and Washington units. \nRide Captain….Dave Palmer [URL=”tel:%28208%29277-6909″](208)277-6909[/URL]\nAsst State Captain….Pam Moist [URL=”tel:%28208%29%20699-5873″](208) 699-5873[/URL] \nCage Support…Bob Thomson
URL:https://www.patriotguard.org/mission/ronald-carson-usn-vietnam-coeur-dalene-id/
CATEGORIES:Archive
END:VEVENT
END:VCALENDAR