BEGIN:VCALENDAR
VERSION:2.0
PRODID:-//Patriot Guard Riders - ECPv5.6.0//NONSGML v1.0//EN
CALSCALE:GREGORIAN
METHOD:PUBLISH
X-WR-CALNAME:Patriot Guard Riders
X-ORIGINAL-URL:https://www.patriotguard.org
X-WR-CALDESC:Events for Patriot Guard Riders
BEGIN:VTIMEZONE
TZID:America/New_York
BEGIN:DAYLIGHT
TZOFFSETFROM:-0500
TZOFFSETTO:-0400
TZNAME:EDT
DTSTART:20080309T070000
END:DAYLIGHT
BEGIN:STANDARD
TZOFFSETFROM:-0400
TZOFFSETTO:-0500
TZNAME:EST
DTSTART:20081102T060000
END:STANDARD
END:VTIMEZONE
BEGIN:VEVENT
DTSTART;TZID=America/New_York:20081120T090000
DTEND;TZID=America/New_York:20081120T110000
DTSTAMP:20210512T080856
CREATED:20081120T140000Z
LAST-MODIFIED:20191201T113028Z
UID:379874-1227171600-1227178800@www.patriotguard.org
SUMMARY:Ronald C. Everett\, 83\, USMC\, WWII Veteran
DESCRIPTION:FINAL ITINERARY for  Ronald C. Everett\, 83\, USMC\, WWII Veteran\, Rockland\, MA\,  Thursday 20 NOV 08 \n\nStaging:   Rockland Police Department\n490 Market St\nRockland\, MA 02370 \nDirections:     From Rte 3\, take exit  13 and then onto Rte 53 (Washington St) North direction                 Norwell/Rte 123.  Turn left onto Rte 123 (Webster St)  South. Continue  and then take left onto Market St (Rte 139). Police dept. just up ahead. \nhttp://shrunklink.com/bhgk \nStaging time: 7:45 – 8:50 Thursday\, 20 Nov 08 \nBriefing: 8:50 \nKSU: 9:00 \nRide Captain: Ken Roy   NavyBratPRCS@aol.com \nNOTE; This will be a high profile funeral with various town departments\, other  motorcycle organizations\, etc participating. We always want to show our commitment to the family and friends of any fallen hero\, and with this event we should make a special effort to also stand well represented  for the others who will be present. \n \n\nBring/Mount your flags \n\n\nPS  My mother wants me to remind you all to dress warmly! \n— \nHoward Shrut\nMassachusetts\nAssistant State Captain\nhshrut@rcn.com \nWe have been invited by the family of WWII USMC Veteran Ronald Everett to be present at his funeral and surrounding events. In addition to serving during WWII as a combat infantryman\, he was a retired member of the Rockland Police department. \nCALLING HOURS : Wednesday 19 Nov 08 from 5 to 8 PM \nMagoun-Biggins Funeral Home\n135 Union St\nRockland\, MA 02370 \nhttp://shrunklink.com/bhdz \n\nATTEND CALLING HOURS ON YOUR OWN \n\n\nFUNERAL: Thursday 20 Nov 08 \nLOCATION: \nMagoun-Biggins Funeral Home\n135 Union St\nRockland\, MA 02370 \nhttp://shrunklink.com/bhdz \nFor planning purposes\, the funeral service commences at 10:00 AM followed by burial  at Mt Pleasant Cemetery \, also in Rockland \nRIDE CAPTAIN: Ken Roy    NavyBratPRCS@aol.com \n\n\nDetails to follow when finalized \n\n\nHoward Shrut\nAssistant State captain\nhshrut@rcn.com
URL:https://www.patriotguard.org/mission/ronald-c-everett-83-usmc-wwii-veteran/
LOCATION:Dwight Gaston
CATEGORIES:Archive
END:VEVENT
END:VCALENDAR