BEGIN:VCALENDAR
VERSION:2.0
PRODID:-//Patriot Guard Riders - ECPv5.3.2.1//NONSGML v1.0//EN
CALSCALE:GREGORIAN
METHOD:PUBLISH
X-WR-CALNAME:Patriot Guard Riders
X-ORIGINAL-URL:https://www.patriotguard.org
X-WR-CALDESC:Events for Patriot Guard Riders
BEGIN:VTIMEZONE
TZID:America/New_York
BEGIN:DAYLIGHT
TZOFFSETFROM:-0500
TZOFFSETTO:-0400
TZNAME:EDT
DTSTART:20170312T070000
END:DAYLIGHT
BEGIN:STANDARD
TZOFFSETFROM:-0400
TZOFFSETTO:-0500
TZNAME:EST
DTSTART:20171105T060000
END:STANDARD
END:VTIMEZONE
BEGIN:VEVENT
DTSTART;TZID=America/New_York:20170808T143000
DTEND;TZID=America/New_York:20170808T163000
DTSTAMP:20210404T173102
CREATED:20170808T183000Z
LAST-MODIFIED:20191201T034722Z
UID:343914-1502202600-1502209800@www.patriotguard.org
SUMMARY:Ronald B. Greenfield\, Veteran\, USA - Vietnam
DESCRIPTION:Ronald B. Greenfield\, Veteran \nUSA – Vietnam \nLexington\, South Carolina – 08 Aug 2017\n\n\n[HR][/HR] \nABOUT THE MISSION: \nTHIS IS A ONE PART MISSION\, PLEASE READ THE ENTIRE MISSION EMAIL FOR DETAILS. \nThe family of Captain Greenfield has requested the PGR stand for their loved one’s final formation. We replied that we would be honored to stand for him. \nAfter graduating from Officer Candidate School in 1967\, Captain Greenfield accepted a commission and became a helicopter pilot. He received a Purple Heart. He later became the Operations Manager at Ameritech. \nInterment will be in Arlington National Cemetery at a later date TBD. \nHe is survived by his wife and nine children. \nPRIMARY STAGING DETAILS: 08 Aug 2017 \n\nPrimary Staging Time: 2:30 P.M.\n\n\nCaughman- Harman Funeral Home\n503 North Lake Dr.\nLexington\, South Carolina – 29072 \nMap: https://tinyurl.com/y97g9glh\n\n\nRide Captain:\n\n\nJames “Yoder” Christian\n803 463-3720\njdchristian@att.net \nRon Kelly\n \n\nSpecial Instructions:\n\n\nBriefing: 2:45 P.M. \nAfter the briefing we will stand up a flag line until the start of the service at 4:00 P.M. \nOnce the service begins we will stand down and quietly depart.\n \n\n\nFlags & Water:\n\n\nFlags Will Be Provided\nLarge Bike Flags will NOT be needed.\nWater will be provided.\n\n\nSubmitted By: L.Z. Harrison\, Jr.\nPosition: State Captain \n\n[HR][/HR] \nNote:\nYou do not have to own/ride a motorcycle or be a Veteran to join and membership is Free. The only requirement is RESPECT! To join\, simply go to www.PatriotGuard.org and click on Register. Membership is Free. \nTo subscribe to receive mission notices\, log into the National Site and click on the Mission Tab at the top. Select Upcoming Missions by State. Scroll to the state(s) you would like to receive notices for and click on the green check mark. Detailed instructions are also located in the FAQs on the site by clicking on the Quick Links Tab and selecting FAQs.
URL:https://www.patriotguard.org/mission/ronald-b-greenfield-veteran-usa-vietnam/
END:VEVENT
END:VCALENDAR