BEGIN:VCALENDAR
VERSION:2.0
PRODID:-//Patriot Guard Riders - ECPv5.3.2.1//NONSGML v1.0//EN
CALSCALE:GREGORIAN
METHOD:PUBLISH
X-WR-CALNAME:Patriot Guard Riders
X-ORIGINAL-URL:https://www.patriotguard.org
X-WR-CALDESC:Events for Patriot Guard Riders
BEGIN:VTIMEZONE
TZID:America/New_York
BEGIN:DAYLIGHT
TZOFFSETFROM:-0500
TZOFFSETTO:-0400
TZNAME:EDT
DTSTART:20190310T070000
END:DAYLIGHT
BEGIN:STANDARD
TZOFFSETFROM:-0400
TZOFFSETTO:-0500
TZNAME:EST
DTSTART:20191103T060000
END:STANDARD
END:VTIMEZONE
BEGIN:VEVENT
DTSTART;VALUE=DATE:20190909
DTEND;VALUE=DATE:20190910
DTSTAMP:20210401T125301
CREATED:20190906T013412Z
LAST-MODIFIED:20190906T013412Z
UID:172924-1567987200-1568073599@www.patriotguard.org
SUMMARY:Ronald Alvarado
DESCRIPTION:Honor Mission\nRonald Alvarado\, Veteran\nUSAF – Vietnam\nKansas City\, Missouri – 09-09-19\n\n\n\nABOUT THE MISSION: \nThe family of Ronald Alvarado has asked the Patriot Guard to stand in his honor during visitation and service. Then escort him to his final resting place.\n\n\nPRIMARY STAGING DETAILS: 09-09-19 \nStaging Time: 08:30 AM\n \nSerenity Funeral Home\n1101 Bannister Rd.\nKansas City\, Missouri 64131\n\n\nRide Captain: \nJerry “Deepfreeze” Ewing\n816-590-0104\n\n\nSpecial Instructions: \nStage………..……8:30\nVisitation………….9:00\nFamily Arrival…..10:30\nService……………11:00\nEscort after service to Forest Calvary Cemetery\, 6901 Troost\, KCMO.\n\n\nFlags & Water:\nFlags will be provided\nIf you have large bike flags\, please bring them.\nWater WILL NOT be provided\, please bring your own.\n\n\n\nSubmitted By: gerald ewing \nPosition: Missouri Ride Captain \n\nNote: You do not have to own/ride a motorcycle or be a veteran to join\, and membership is Free. The only requirement is RESPECT! To subscribe to receive mission notices\, log into the National Site and click on the Members tab at the top. Select the Subscribe to PGR Missions option.\n Print This Page
URL:https://www.patriotguard.org/mission/ronald-alvarado/
CATEGORIES:Honor Mission
END:VEVENT
END:VCALENDAR