BEGIN:VCALENDAR
VERSION:2.0
PRODID:-//Patriot Guard Riders - ECPv5.3.2.1//NONSGML v1.0//EN
CALSCALE:GREGORIAN
METHOD:PUBLISH
X-WR-CALNAME:Patriot Guard Riders
X-ORIGINAL-URL:https://www.patriotguard.org
X-WR-CALDESC:Events for Patriot Guard Riders
BEGIN:VTIMEZONE
TZID:America/New_York
BEGIN:DAYLIGHT
TZOFFSETFROM:-0500
TZOFFSETTO:-0400
TZNAME:EDT
DTSTART:20190310T070000
END:DAYLIGHT
BEGIN:STANDARD
TZOFFSETFROM:-0400
TZOFFSETTO:-0500
TZNAME:EST
DTSTART:20191103T060000
END:STANDARD
END:VTIMEZONE
BEGIN:VEVENT
DTSTART;TZID=America/New_York:20190626T000000
DTEND;TZID=America/New_York:20190626T235900
DTSTAMP:20210405T002422
CREATED:20190625T202714Z
LAST-MODIFIED:20190626T122436Z
UID:165785-1561507200-1561593540@www.patriotguard.org
SUMMARY:Ronald Allen Cyr
DESCRIPTION:Honor Mission\nRonald Allen Cyr\, Veteran\nUSA\nFort Mitchell\, Alabama – 06-26-19\n\n\n\n\nABOUT THE MISSION: \nThe family of SSG Ronald A. Cyr\, USA has requested the Patriot Guard to stand a silent flag line in honor of their loved one’s service to our country. It will be our honor to do so. SSG. Cyr served a number of years in the U.S. Army as a 63B Light Vehicle Mechanic and a 55B Ammunition Specialist. Mr. Cyr was a Disabled Veteran with little remaining family.\n\n\nPRIMARY STAGING DETAILS: 06-26-19 \nStaging Time: 09:30 am \nFort Mitchell National Cemetery\n553 AL-165\nFort Mitchell\, Alabama 36856\n\n\nRide Captain: \nPhil “mumbles” Bennett\nbennettphil@hotmail.com\n\n\nSpecial Instructions: \nThis will be a flag line mission only.\n\n\nFlags & Water:\nFlags will be provided\nLarge Bike Flags will NOT be needed.\nWater will be provided.\n\n\n\nSubmitted By: Phillip Bennett \nPosition: Georgia Ride Captain \n\nNote: You do not have to own/ride a motorcycle or be a veteran to join\, and membership is Free. The only requirement is RESPECT! To subscribe to receive mission notices\, log into the National Site and click on the Members tab at the top. Select the Subscribe to PGR Missions option.\n Print This Page
URL:https://www.patriotguard.org/mission/ronald-allen-cyr/
CATEGORIES:Honor Mission
END:VEVENT
END:VCALENDAR