BEGIN:VCALENDAR
VERSION:2.0
PRODID:-//Patriot Guard Riders - ECPv5.3.2.1//NONSGML v1.0//EN
CALSCALE:GREGORIAN
METHOD:PUBLISH
X-WR-CALNAME:Patriot Guard Riders
X-ORIGINAL-URL:https://www.patriotguard.org
X-WR-CALDESC:Events for Patriot Guard Riders
BEGIN:VTIMEZONE
TZID:America/New_York
BEGIN:DAYLIGHT
TZOFFSETFROM:-0500
TZOFFSETTO:-0400
TZNAME:EDT
DTSTART:20190310T070000
END:DAYLIGHT
BEGIN:STANDARD
TZOFFSETFROM:-0400
TZOFFSETTO:-0500
TZNAME:EST
DTSTART:20191103T060000
END:STANDARD
END:VTIMEZONE
BEGIN:VEVENT
DTSTART;VALUE=DATE:20190926
DTEND;VALUE=DATE:20190927
DTSTAMP:20210401T094918
CREATED:20190925T185129Z
LAST-MODIFIED:20190925T185129Z
UID:176691-1569456000-1569542399@www.patriotguard.org
SUMMARY:Ronald A. Hammer
DESCRIPTION:Honor Mission\nRonald A. Hammer \, Retired\nUSA\, USAR – WoT\nSt. Louis\, Missouri – 09-26-19\n\n\n\n\nABOUT THE MISSION: \nThe Patriot Guard Riders have been requested to stand for Ronald A. Hammer\, just as he once stood for every one of us.  Mr. Hammer served 24 years in the U.S. Army and its Reserves.  In addition to protecting his country and preserving its freedoms\, Hero Hammer achieved the rank of Sergeant while receiving numerous awards including the Army Good Conduct Medal (2nd award)\, Army Reserve Components Achievement Medal\, National Defense Service Medal w/ Bronze Star\, Global War on Terrorism Service Medal\, Iraq Campaign Medal w/ Campaign Star\, Army Service Ribbon\, Overseas Service Ribbon\, and the Armed Forces Reserve Medal with M Device.\n\n\nPRIMARY STAGING DETAILS: 09-26-19 \nStaging Time: 1:00 pm\n \nJefferson Barracks National Cemetery\nAdministration Building\n2900 Sheridan Road\nSt. Louis\, Missouri 63125\n\n\nRide Captain: \nMike ‘Jenky’ Jenkins\nmejenkins62@yahoo.com\n\n\nSpecial Instructions: \n1:00 pm: Staging w/ride meeting to follow.\n1:15 PM:  Family arrival\n1:30 PM:  Military Honors.  Check weather and dress accordingly.  Hydrate before and during mission.  Cages are always welcome!\n\nFlags & Water:\nFlags will be provided\nLarge Bike Flags will NOT be needed.\nWater will be provided.\n\n\n\n\nSubmitted By: Jeff Hirsch \nPosition: Missouri Ride Captain \n\nNote: You do not have to own/ride a motorcycle or be a veteran to join\, and membership is Free. The only requirement is RESPECT! To subscribe to receive mission notices\, log into the National Site and click on the Members tab at the top. Select the Subscribe to PGR Missions option.\n Print This Page
URL:https://www.patriotguard.org/mission/ronald-a-hammer/
CATEGORIES:Honor Mission
END:VEVENT
END:VCALENDAR