BEGIN:VCALENDAR
VERSION:2.0
PRODID:-//Patriot Guard Riders - ECPv5.3.2.1//NONSGML v1.0//EN
CALSCALE:GREGORIAN
METHOD:PUBLISH
X-WR-CALNAME:Patriot Guard Riders
X-ORIGINAL-URL:https://www.patriotguard.org
X-WR-CALDESC:Events for Patriot Guard Riders
BEGIN:VTIMEZONE
TZID:America/New_York
BEGIN:DAYLIGHT
TZOFFSETFROM:-0500
TZOFFSETTO:-0400
TZNAME:EDT
DTSTART:20190310T070000
END:DAYLIGHT
BEGIN:STANDARD
TZOFFSETFROM:-0400
TZOFFSETTO:-0500
TZNAME:EST
DTSTART:20191103T060000
END:STANDARD
END:VTIMEZONE
BEGIN:VEVENT
DTSTART;VALUE=DATE:20190518
DTEND;VALUE=DATE:20190519
DTSTAMP:20210403T102720
CREATED:20190515T162025Z
LAST-MODIFIED:20190515T162025Z
UID:161219-1558137600-1558223999@www.patriotguard.org
SUMMARY:Ron “Triker” Welch
DESCRIPTION:Honor Mission\nRon “Triker” Welch\, Veteran\nUSA – Vietnam\nGreen Bay\, Wisconsin – 05-18-19\n\n\n\nABOUT THE MISSION: \nRonald James (Ron) Welch\, 68\, Green Bay\, died Sunday\, May 12\, 2019. He was born on September 26\, 1950 in Hope\, AR to John and Betty (Pippin) Welch. Ron joined the U.S. Army in 1968 and served in the Vietnam War from 1970 to 1971 and was Crew Chief and a door gunner on a Huey. On February 14\, 1987 Ron married. He was a member of Rolling Thunder. Ron built his trike from the ground up due to a neurological problem and was proud that he could give a ride to a Gold Star Mother to the LZ Lambeau event.\n\n\nPRIMARY STAGING DETAILS: 05-18-19 \nStaging Time: 1:00 PM\n \nBlaney Funeral Home\n1521 Shawano Ave.\nGreen Bay\, Wisconsin\n\n\nRide Captain: \nJerry Beiersdorf\njerryb9200@juno.com\n\n\nSpecial Instructions: \nStaging 1:00 p.m.\nVisitation / Time of Remembrance 2:00 – 5:00 p.m.\nMilitary Honors 5:00 p.m.\n\n\nFlags & Water:\nFlags will be provided\nLarge Bike Flags will NOT be needed.\nWater WILL NOT be provided\, please bring your own.\n\n\n\nSubmitted By: John Curran \nPosition: Wisconsin State Captain \n\nNote: You do not have to own/ride a motorcycle or be a veteran to join\, and membership is Free. The only requirement is RESPECT! To subscribe to receive mission notices\, log into the National Site and click on the Members tab at the top. Select the Subscribe to PGR Missions option.\n Print This Page
URL:https://www.patriotguard.org/mission/ron-triker-welch/
CATEGORIES:Honor Mission
END:VEVENT
END:VCALENDAR