BEGIN:VCALENDAR
VERSION:2.0
PRODID:-//Patriot Guard Riders - ECPv5.6.0//NONSGML v1.0//EN
CALSCALE:GREGORIAN
METHOD:PUBLISH
X-WR-CALNAME:Patriot Guard Riders
X-ORIGINAL-URL:https://www.patriotguard.org
X-WR-CALDESC:Events for Patriot Guard Riders
BEGIN:VTIMEZONE
TZID:America/New_York
BEGIN:DAYLIGHT
TZOFFSETFROM:-0500
TZOFFSETTO:-0400
TZNAME:EDT
DTSTART:20160313T070000
END:DAYLIGHT
BEGIN:STANDARD
TZOFFSETFROM:-0400
TZOFFSETTO:-0500
TZNAME:EST
DTSTART:20161106T060000
END:STANDARD
END:VTIMEZONE
BEGIN:VEVENT
DTSTART;TZID=America/New_York:20160827T090000
DTEND;TZID=America/New_York:20160827T110000
DTSTAMP:20210512T043457
CREATED:20160827T130000Z
LAST-MODIFIED:20191201T143432Z
UID:409766-1472288400-1472295600@www.patriotguard.org
SUMMARY:Ron Sury\, USAF-Vietnam\, PGR / Parkersburg
DESCRIPTION:The Patriot Guard Riders have been invited to stand in silent Honor and Respect for one of our own\, Ron Sury\, US Air Force\, Vietnam Veteran\, on Saturday\, 27 Aug 16.  Although he went to be with the Lord in February\, it was not until now that his memorial service could be arranged. \nService will be held at VFW Post #1212\, 1630 Garfield Ave.\, Parkersburg\, WV (http://tinyurl.com/jn5g3av) beginning at 1100. \nWest Virginia RC Carl Spade (ace_gunsmith@hotmail.com) is the designated RCIC of this most honorable mission. \nStaging will be at the VFW at 1015. \nBriefing at 1030 with flag line established and maintained until the start of services.    All in attendance are welcome and invited to attend the service. \nAt the conclusion of services\, we will escort Ron’s cremains to the Edgewater Café\, 860 Muskingum River Rd\, Marietta\, OH (http://tinyurl.com/zsm6lcw) where his cremains will be solemnly spread. \nEarly weather forecast is for mostly sunny skies with temperatures in the mid-80’s.  Please dress and travel accordingly. \nPlease join with us as we say “Thank You” and “God Speed” to one of our own.
URL:https://www.patriotguard.org/mission/ron-sury-usaf-vietnam-pgr-parkersburg/
CATEGORIES:Archive
END:VEVENT
END:VCALENDAR