BEGIN:VCALENDAR
VERSION:2.0
PRODID:-//Patriot Guard Riders - ECPv5.3.2.1//NONSGML v1.0//EN
CALSCALE:GREGORIAN
METHOD:PUBLISH
X-WR-CALNAME:Patriot Guard Riders
X-ORIGINAL-URL:https://www.patriotguard.org
X-WR-CALDESC:Events for Patriot Guard Riders
BEGIN:VTIMEZONE
TZID:America/New_York
BEGIN:DAYLIGHT
TZOFFSETFROM:-0500
TZOFFSETTO:-0400
TZNAME:EDT
DTSTART:20170312T070000
END:DAYLIGHT
BEGIN:STANDARD
TZOFFSETFROM:-0400
TZOFFSETTO:-0500
TZNAME:EST
DTSTART:20171105T060000
END:STANDARD
END:VTIMEZONE
BEGIN:VEVENT
DTSTART;TZID=America/New_York:20170619T104500
DTEND;TZID=America/New_York:20170619T124500
DTSTAMP:20210406T021959
CREATED:20170619T144500Z
LAST-MODIFIED:20191201T033734Z
UID:337682-1497869100-1497876300@www.patriotguard.org
SUMMARY:Ron Howard\, Retired\, USA - Vietnam
DESCRIPTION:Ron Howard\, Retired \nUSA – Vietnam \nClyde\, North Carolina – 19 Jun 2017\n\n[HR][/HR]\nABOUT THE MISSION: \nFellow PGR members\, we have been requested by the family of CW5 Ron Howard (retired) to attend and show honors for his final mission. Mr Howard spent 31 years on active duty with the US Army serving in Vietnam and a number of other duty stations. He was awarded the Vietnam Service Badge\, Combat Infantry Man Badge\, Airborne School\, Flight School\, MSM\, and Air Medal along with the 160th Special Operations Aviation Regiment (Little Birds) medal. After retirement he formed a company which builds aircraft used to fight terrorism all over the world. He was also an avid motorcyclist.\nWe will provide a flag line for the visitation followed by an escort to his final resting place. They are expecting upwards of 500-700 at his service where we will honor this true American Hero. \n\nPRIMARY STAGING DETAILS: 19 Jun 2017 \n \nPrimary Staging Time: 10:45 A.M.\n\nHaywood Community College\nCharles Beall Auditorium\n185 Freedlander Dr\n\nClyde\, North Carolina – 28721\n\n\n\n \nRide Captain:\n\nDan ‘Triker Dan’ Palmer\ndanpris@earthlink.net\n828-551-4275 \nRobert ‘Coolbreeze’ Downs \n\n\n\nSpecial Instructions:\n\nWe will stage at 10:45 am in front of the auditorium and establish a flag line for the visitation which will begin at 11:00 AM. Visitation will be from 11:00 – 1:45 due to the large crowd expected. Service is at 2:00 pm at which time we will break down\, load the flags and prepare to render honors as Mr. Howard is prepared for transport to his final resting place. We will then escort Mr Howard to the cemetery which is approximately a 10 mile drive where will will again stand a line of honor. There will be LEO escort\n\n \nFlags & Water:\n\nFlags Will Be Provided\n\nIf you have large bike flags\, please bring them.\n\nWater WILL NOT be provided\, please bring your own.\n\n\nSubmitted By: Daniel Palmer\nPosition: Ride Captain \n[HR][/HR]\nNote:\nYou do not have to own/ride a motorcycle or be a Veteran to join and membership is Free. The only requirement is RESPECT! To join\, simply go to www.PatriotGuard.org and click on Register. Membership is Free. \nTo subscribe to receive mission notices\, log into the National Site and click on the Mission Tab at the top. Select Upcoming Missions by State. Scroll to the state(s) you would like to receive notices for and click on the green check mark. Detailed instructions are also located in the FAQs on the site by clicking on the Quick Links Tab and selecting FAQs.
URL:https://www.patriotguard.org/mission/ron-howard-retired-usa-vietnam/
END:VEVENT
END:VCALENDAR