BEGIN:VCALENDAR
VERSION:2.0
PRODID:-//Patriot Guard Riders - ECPv5.3.2.1//NONSGML v1.0//EN
CALSCALE:GREGORIAN
METHOD:PUBLISH
X-WR-CALNAME:Patriot Guard Riders
X-ORIGINAL-URL:https://www.patriotguard.org
X-WR-CALDESC:Events for Patriot Guard Riders
BEGIN:VTIMEZONE
TZID:America/New_York
BEGIN:DAYLIGHT
TZOFFSETFROM:-0500
TZOFFSETTO:-0400
TZNAME:EDT
DTSTART:20190310T070000
END:DAYLIGHT
BEGIN:STANDARD
TZOFFSETFROM:-0400
TZOFFSETTO:-0500
TZNAME:EST
DTSTART:20191103T060000
END:STANDARD
END:VTIMEZONE
BEGIN:VEVENT
DTSTART;VALUE=DATE:20190911
DTEND;VALUE=DATE:20190912
DTSTAMP:20210401T085615
CREATED:20190911T120908Z
LAST-MODIFIED:20190911T120908Z
UID:173489-1568160000-1568246399@www.patriotguard.org
SUMMARY:Ron Eagle d'Andre
DESCRIPTION:Memorial\nRon Eagle d’Andre \, Veteran\nUSA – \, Vietnam\nApache Junction\, Arizona – 09-11-19\n\n\n\n\nABOUT THE MISSION: \nRon Eagle d’Andre Served his country proudly\, with 3 tours in Vietnam. He was the recipient of 3 Purple Hearts\, and attained the rank of Sergeant in the United States Army\, Air Calvalry. We are honored to stand for this Hero.\n\n\nPRIMARY STAGING DETAILS: 09-11-19 \nStaging Time: 4:45 pm \nGoldfield Ghost Town\n4650 N. Mammoth Mine Rd\nApache Junction\, Arizona 85119\n\n\nRide Captain: \nBill “Wildhorse” Wooster\n480 747 7091\n\n\n\nSpecial Instructions: \nStage here with flag support\, await arrive of escort COH upon escort arrival\, flag line for honorable transfer at 5 pm\n\nFlags & Water:\nFlags will be provided\nLarge Bike Flags will NOT be needed.\nWater will be provided.\n\n\n\n\nSubmitted By: Bill Wooster \nPosition: Arizona Assistant State Captain \n\nNote: You do not have to own/ride a motorcycle or be a veteran to join\, and membership is Free. The only requirement is RESPECT! To subscribe to receive mission notices\, log into the National Site and click on the Members tab at the top. Select the Subscribe to PGR Missions option.\n Print This Page
URL:https://www.patriotguard.org/mission/ron-eagle-dandre/
CATEGORIES:Memorial
END:VEVENT
END:VCALENDAR