BEGIN:VCALENDAR
VERSION:2.0
PRODID:-//Patriot Guard Riders - ECPv5.3.2.1//NONSGML v1.0//EN
CALSCALE:GREGORIAN
METHOD:PUBLISH
X-WR-CALNAME:Patriot Guard Riders
X-ORIGINAL-URL:https://www.patriotguard.org
X-WR-CALDESC:Events for Patriot Guard Riders
BEGIN:VTIMEZONE
TZID:America/New_York
BEGIN:DAYLIGHT
TZOFFSETFROM:-0500
TZOFFSETTO:-0400
TZNAME:EDT
DTSTART:20190310T070000
END:DAYLIGHT
BEGIN:STANDARD
TZOFFSETFROM:-0400
TZOFFSETTO:-0500
TZNAME:EST
DTSTART:20191103T060000
END:STANDARD
END:VTIMEZONE
BEGIN:VEVENT
DTSTART;VALUE=DATE:20190622
DTEND;VALUE=DATE:20190623
DTSTAMP:20210404T231323
CREATED:20190620T181845Z
LAST-MODIFIED:20190620T181845Z
UID:165348-1561161600-1561247999@www.patriotguard.org
SUMMARY:Roland Lee Andrews
DESCRIPTION:Honor Mission\nRoland Lee Andrews\, Veteran\nUSA – Vietnam\nArchdale\, North Carolina – 06-22-19\n\n\n\nABOUT THE MISSION: \nRoland Lee Andrews\, 73 yrs old\, was born May 15th 1946. He was a combat engineer in Vietnam\, and had a big family with seven grandchildren. He was a land surveyor and also served in the cub scouts as a scoutmaster. We will be escorting Mr Andrews from the Funeral Home to the Cemetery. There we will stand and honor and hold a flag line until family departs.\n\n\nPRIMARY STAGING DETAILS: 06-22-19 \nStaging Time: 10:50 AM\n \nCumby Family Funeral Service\n206 Trindle Road\nArchdale\, North Carolina 27263\nMap\n\n\nRide Captain: \nRoger Carroll\nCell #336-870-3545\nPatriotrogercarroll76@gmail.com\n\n\nSpecial Instructions: \nService at the funeral home will start at 11 a.m.\nEscort following to the burial site where we will stand a flag line and honor Mr Andrews.\n\n\nFlags & Water:\nFlags will be provided\nIf you have large bike flags\, please bring them.\nWater WILL NOT be provided\, please bring your own.\n\nSTAGING #2 DETAILS: 06-22-19 \nStaging Time: 11:35 AM\n \nCedar Square Friend Meeting Cemetery\n7546 Harlow road\nArchdale\, North Carolina 27263\nMap\n\n\nRide Captain: \nRoger Carroll\n336-870-3545\nPatriotrogercarroll76@gmail.com\n\n\nSpecial Instructions: \nAfter escorting Mr. Andrews and family we will stand a flag line at the cemetery.\n\n\nFlags & Water:\nFlags will be provided\nIf you have large bike flags\, please bring them.\nWater WILL NOT be provided\, please bring your own.\n\n\n\nSubmitted By: roger Carroll \nPosition: North Carolina Ride Captain \n\nNote: You do not have to own/ride a motorcycle or be a veteran to join\, and membership is Free. The only requirement is RESPECT! To subscribe to receive mission notices\, log into the National Site and click on the Members tab at the top. Select the Subscribe to PGR Missions option.\n Print This Page
URL:https://www.patriotguard.org/mission/roland-lee-andrews/
CATEGORIES:Honor Mission
END:VEVENT
END:VCALENDAR