BEGIN:VCALENDAR
VERSION:2.0
PRODID:-//Patriot Guard Riders - ECPv5.6.0//NONSGML v1.0//EN
CALSCALE:GREGORIAN
METHOD:PUBLISH
X-WR-CALNAME:Patriot Guard Riders
X-ORIGINAL-URL:https://www.patriotguard.org
X-WR-CALDESC:Events for Patriot Guard Riders
BEGIN:VTIMEZONE
TZID:America/New_York
BEGIN:DAYLIGHT
TZOFFSETFROM:-0500
TZOFFSETTO:-0400
TZNAME:EDT
DTSTART:20160313T070000
END:DAYLIGHT
BEGIN:STANDARD
TZOFFSETFROM:-0400
TZOFFSETTO:-0500
TZNAME:EST
DTSTART:20161106T060000
END:STANDARD
END:VTIMEZONE
BEGIN:VEVENT
DTSTART;TZID=America/New_York:20160617T090000
DTEND;TZID=America/New_York:20160617T110000
DTSTAMP:20210513T124814
CREATED:20160617T130000Z
LAST-MODIFIED:20191201T145122Z
UID:411313-1466154000-1466161200@www.patriotguard.org
SUMMARY:Roger W. Crow\, USMC
DESCRIPTION:The Family of Roger W. Crow has requested the Patriot Guard Riders to Stand a Silent Flag Line\, and Escort in Honor of his Service to our Country. \nMr Crow was a Corporal\, E4\, in the U.S.Marine Corps and served in Vietnam. Beloved Husband of Diana Crow. Survived by 3 Children\, 10 Grandchildren\, and 6 Great Grandchildren. \nFriday June 17\, 2016 \nLocation : \nUht Funeral Home\n35400 Glenwood Rd.\nWestland\, MI 48186 \nMap :http://mapq.st/1Xmbf53 \nStaging: 11:30 A.M.\nBriefing: 12:00 NOON.\nFlag Line: 12:15 P.M. till Service starts at 1:00 P.M. \nYou MUST attend the Briefing to do the Escort after the Service.\n(the cemetery is 1 mile directly east of Funeral Home.) \nRide Captain:\nBubba\n734-658-0995\nspirtshadow02@yahoo.com
URL:https://www.patriotguard.org/mission/roger-w-crow-usmc/
CATEGORIES:Archive
END:VEVENT
END:VCALENDAR