BEGIN:VCALENDAR
VERSION:2.0
PRODID:-//Patriot Guard Riders - ECPv5.3.2.1//NONSGML v1.0//EN
CALSCALE:GREGORIAN
METHOD:PUBLISH
X-WR-CALNAME:Patriot Guard Riders
X-ORIGINAL-URL:https://www.patriotguard.org
X-WR-CALDESC:Events for Patriot Guard Riders
BEGIN:VTIMEZONE
TZID:America/New_York
BEGIN:DAYLIGHT
TZOFFSETFROM:-0500
TZOFFSETTO:-0400
TZNAME:EDT
DTSTART:20190310T070000
END:DAYLIGHT
BEGIN:STANDARD
TZOFFSETFROM:-0400
TZOFFSETTO:-0500
TZNAME:EST
DTSTART:20191103T060000
END:STANDARD
END:VTIMEZONE
BEGIN:VEVENT
DTSTART;VALUE=DATE:20190720
DTEND;VALUE=DATE:20190721
DTSTAMP:20210404T045018
CREATED:20190717T222838Z
LAST-MODIFIED:20190717T222838Z
UID:168017-1563580800-1563667199@www.patriotguard.org
SUMMARY:Roger Ridel
DESCRIPTION:Honor Mission\nRoger Ridel\, Veteran\nUSAF –\nBrooks\, Kentucky – 07-20-19\n\n\n\nABOUT THE MISSION: \nWe have been asked by the family of Mr Roger Ridel\, a US Air Force Veteran\, to stand a flagline in his Honor.\n\n\nPRIMARY STAGING DETAILS: 07-20-19 \nStaging Time: 11:30am  \nSchoppenhorst\,Underwood and Brooks\n4895 N Preston Hwy\nBrooks\, Kentucky 40165\n\n\nRide Captain: \nBob Kissell\n502-779-0638\n\n\nSpecial Instructions: \nMission starts at 12 and will last till service beginning at 3pm.\n\n\nFlags & Water:\nFlags will be provided\nLarge Bike Flags will NOT be needed.\nWater WILL NOT be provided\, please bring your own.\n\n\n\nSubmitted By: Thomas Baker \nPosition: Kentucky Ride Captain \n\nNote: You do not have to own/ride a motorcycle or be a veteran to join\, and membership is Free. The only requirement is RESPECT! To subscribe to receive mission notices\, log into the National Site and click on the Members tab at the top. Select the Subscribe to PGR Missions option.\n Print This Page
URL:https://www.patriotguard.org/mission/roger-ridel/
CATEGORIES:Honor Mission
END:VEVENT
END:VCALENDAR