BEGIN:VCALENDAR
VERSION:2.0
PRODID:-//Patriot Guard Riders - ECPv5.3.2.1//NONSGML v1.0//EN
CALSCALE:GREGORIAN
METHOD:PUBLISH
X-WR-CALNAME:Patriot Guard Riders
X-ORIGINAL-URL:https://www.patriotguard.org
X-WR-CALDESC:Events for Patriot Guard Riders
BEGIN:VTIMEZONE
TZID:America/New_York
BEGIN:DAYLIGHT
TZOFFSETFROM:-0500
TZOFFSETTO:-0400
TZNAME:EDT
DTSTART:20190310T070000
END:DAYLIGHT
BEGIN:STANDARD
TZOFFSETFROM:-0400
TZOFFSETTO:-0500
TZNAME:EST
DTSTART:20191103T060000
END:STANDARD
END:VTIMEZONE
BEGIN:VEVENT
DTSTART;VALUE=DATE:20190709
DTEND;VALUE=DATE:20190712
DTSTAMP:20210403T192321
CREATED:20190707T143751Z
LAST-MODIFIED:20190707T143751Z
UID:166810-1562630400-1562889599@www.patriotguard.org
SUMMARY:Roger Lee Woods
DESCRIPTION:Honor Mission\nRoger Lee Woods\, KIA\nUSA – Korea\nMULTI-CITY\, MULTI-STATE – 07-09-19\n\n\n\nABOUT THE MISSION: \nHistorical File: http://tinyurl.com/yxzg77sd.\nPFC Roger Lee Woods\, 18\, U.S. Army Active Duty\, was KIA 29 July 1950. He was in I Company\, 3rd Battalion\, 34th Infantry Regiment\, 24th Infantry Division.\n\n\nPRIMARY STAGING DETAILS: 07-09-19 \nStaging Time: 09:30 AM\n \nCincinnati International Airport\n3087 Terminal Drive\nHebron\, Kentucky 41048\nMap\n\n\nRide Captain: \nFrank Papia\nmapapia@yahoo.com\n\n\nSpecial Instructions: \nMap to Staging Location: https://binged.it/2h5oVo2\n*Note* do not go up to the gate. Park on the right side.\n\n\nFlags & Water:\nFlags will not be provided\nIf you have large bike flags\, please bring them.\nWater WILL NOT be provided\, please bring your own.\n\nSTAGING #2 DETAILS: 07-10-19 \nStaging Time: 4:00 PM\n \nEvans Funeral Home\n1944 State Route 28\nGoshen\, Ohio 45122\n\n\nRide Captain: \nPat Butchkoski\npbutchkosk@aol.com\n\n\nSpecial Instructions: \n\n\nFlags & Water:\nFlags will not be provided\nLarge Bike Flags will NOT be needed.\nWater WILL NOT be provided\, please bring your own.\n\nSTAGING #3 DETAILS: 07-11-19 \nStaging Time: 10:00 AM\n \nEvans Funeral Home\n1944 State Route 28\nGoshen\, Ohio 45122\n\n\nRide Captain: \nPapia\nmapapia@yahoo.com\n\n\nSpecial Instructions: \nFuneral Service\n\n\nFlags & Water:\nFlags will not be provided\nIf you have large bike flags\, please bring them.\nWater WILL NOT be provided\, please bring your own.\n\n\n\nSubmitted By: Robert Woods \nPosition: Ohio State Captain \n\nNote: You do not have to own/ride a motorcycle or be a veteran to join\, and membership is Free. The only requirement is RESPECT! To subscribe to receive mission notices\, log into the National Site and click on the Members tab at the top. Select the Subscribe to PGR Missions option.\n Print This Page
URL:https://www.patriotguard.org/mission/roger-lee-woods/
CATEGORIES:Honor Mission
END:VEVENT
END:VCALENDAR