BEGIN:VCALENDAR
VERSION:2.0
PRODID:-//Patriot Guard Riders - ECPv5.3.2.1//NONSGML v1.0//EN
CALSCALE:GREGORIAN
METHOD:PUBLISH
X-WR-CALNAME:Patriot Guard Riders
X-ORIGINAL-URL:https://www.patriotguard.org
X-WR-CALDESC:Events for Patriot Guard Riders
BEGIN:VTIMEZONE
TZID:America/New_York
BEGIN:DAYLIGHT
TZOFFSETFROM:-0500
TZOFFSETTO:-0400
TZNAME:EDT
DTSTART:20190310T070000
END:DAYLIGHT
BEGIN:STANDARD
TZOFFSETFROM:-0400
TZOFFSETTO:-0500
TZNAME:EST
DTSTART:20191103T060000
END:STANDARD
END:VTIMEZONE
BEGIN:VEVENT
DTSTART;VALUE=DATE:20190618
DTEND;VALUE=DATE:20190619
DTSTAMP:20210405T021519
CREATED:20190613T115855Z
LAST-MODIFIED:20190613T115855Z
UID:164663-1560816000-1560902399@www.patriotguard.org
SUMMARY:Roger Eldon Anderson
DESCRIPTION:Honor Mission\nRoger Eldon Anderson\, Veteran\nUSMC USN – Vietnam\nPortland\, Oregon – 06-18-19\n\n\n\nABOUT THE MISSION: \nLadies and Gentlemen of the Patriot Guard Riders\, we have been invited to stand for Roger Eldon Anderson\, age 69. Roger served in the US Marine Corps from 4 September 1968 to 1 June 1970 as a Still Photographer. After his Service in the Marines Roger served in the US Navy from 6 October 1972 to 16 June 1977 on the USS Hunley (AS-31). He was Honorably Discharged at the Rate of OM2C (Optical Instrument Repairman 2nd Class). He earned the Vietnam Service Medal\, the National Defense Service Medal and a Good Conduct Medal. Please join us as we pay our respects and honor his service to our nation.\n\n\nPRIMARY STAGING DETAILS: 06-18-19 \nStaging Time: 11:30 AM\n \nWillamette National Cemetery\n11800 SE Mt Scott Blvd\nPortland\, Oregon 97086\n\n\nRide Captain: \nSmokie Parrack\nsmokie.parrack@gmail.com\n\n\nSpecial Instructions: \nBriefing: 11:50 am\nKSU: 12:00 pm\nFlagline Set: 12:15 pm\nService Begins: 12:30 pm\nMeet up top at the Rostrum by the flagpole.\nPlease enter the cemetery through Gate 1 or 3 as the normal gate is under construction.\n*** There will be an RHG if possible ***\n\n\nFlags & Water:\nFlags will not be provided\nIf you have large bike flags\, please bring them.\nWater WILL NOT be provided\, please bring your own.\n\n\n\nSubmitted By: John Hanan II \nPosition: Oregon State Captain \n\nNote: You do not have to own/ride a motorcycle or be a veteran to join\, and membership is Free. The only requirement is RESPECT! To subscribe to receive mission notices\, log into the National Site and click on the Members tab at the top. Select the Subscribe to PGR Missions option.\n Print This Page
URL:https://www.patriotguard.org/mission/roger-eldon-anderson/
CATEGORIES:Honor Mission
END:VEVENT
END:VCALENDAR